BEGIN:VCALENDAR
VERSION:2.0
PRODID:-//The Redeemer - ECPv6.15.17.1//NONSGML v1.0//EN
CALSCALE:GREGORIAN
METHOD:PUBLISH
X-WR-CALNAME:The Redeemer
X-ORIGINAL-URL:https://theredeemer.ca
X-WR-CALDESC:Events for The Redeemer
REFRESH-INTERVAL;VALUE=DURATION:PT1H
X-Robots-Tag:noindex
X-PUBLISHED-TTL:PT1H
BEGIN:VTIMEZONE
TZID:America/Toronto
BEGIN:DAYLIGHT
TZOFFSETFROM:-0500
TZOFFSETTO:-0400
TZNAME:EDT
DTSTART:20230312T070000
END:DAYLIGHT
BEGIN:STANDARD
TZOFFSETFROM:-0400
TZOFFSETTO:-0500
TZNAME:EST
DTSTART:20231105T060000
END:STANDARD
BEGIN:DAYLIGHT
TZOFFSETFROM:-0500
TZOFFSETTO:-0400
TZNAME:EDT
DTSTART:20240310T070000
END:DAYLIGHT
BEGIN:STANDARD
TZOFFSETFROM:-0400
TZOFFSETTO:-0500
TZNAME:EST
DTSTART:20241103T060000
END:STANDARD
BEGIN:DAYLIGHT
TZOFFSETFROM:-0500
TZOFFSETTO:-0400
TZNAME:EDT
DTSTART:20250309T070000
END:DAYLIGHT
BEGIN:STANDARD
TZOFFSETFROM:-0400
TZOFFSETTO:-0500
TZNAME:EST
DTSTART:20251102T060000
END:STANDARD
END:VTIMEZONE
BEGIN:VEVENT
DTSTART;VALUE=DATE:20240424
DTEND;VALUE=DATE:20240425
DTSTAMP:20260419T172046
CREATED:20240311T161345Z
LAST-MODIFIED:20240311T161345Z
UID:10006022-1713916800-1714003199@theredeemer.ca
SUMMARY:Prayers from Home
DESCRIPTION:All are invited to a time of prayer each Wednesday when a printed order for daily prayer will be posted on the website early in the morning. It will contain all you need for a time of prayer in your home. This is an opportunity for each of us to set aside time in the middle of the week to enter into a time of prayer and reflection. \nEach Wednesday\, we hold in our prayers the ordinary moments in life—the trials and the joys. \nThe order of service:  An Order for Daily Prayer 24 April 2024
URL:https://theredeemer.ca/event/prayers-from-home-95/
LOCATION:Online
CATEGORIES:Daily Prayer,Featured
ATTACH;FMTTYPE=image/jpeg:https://theredeemer.ca/wp-content/uploads/2024/01/Midweek-Prayer-at-Home_Spring2024.jpg
END:VEVENT
END:VCALENDAR