BEGIN:VCALENDAR
VERSION:2.0
PRODID:-//The Redeemer - ECPv6.15.17.1//NONSGML v1.0//EN
CALSCALE:GREGORIAN
METHOD:PUBLISH
X-WR-CALNAME:The Redeemer
X-ORIGINAL-URL:https://theredeemer.ca
X-WR-CALDESC:Events for The Redeemer
REFRESH-INTERVAL;VALUE=DURATION:PT1H
X-Robots-Tag:noindex
X-PUBLISHED-TTL:PT1H
BEGIN:VTIMEZONE
TZID:America/Toronto
BEGIN:DAYLIGHT
TZOFFSETFROM:-0500
TZOFFSETTO:-0400
TZNAME:EDT
DTSTART:20230312T070000
END:DAYLIGHT
BEGIN:STANDARD
TZOFFSETFROM:-0400
TZOFFSETTO:-0500
TZNAME:EST
DTSTART:20231105T060000
END:STANDARD
BEGIN:DAYLIGHT
TZOFFSETFROM:-0500
TZOFFSETTO:-0400
TZNAME:EDT
DTSTART:20240310T070000
END:DAYLIGHT
BEGIN:STANDARD
TZOFFSETFROM:-0400
TZOFFSETTO:-0500
TZNAME:EST
DTSTART:20241103T060000
END:STANDARD
BEGIN:DAYLIGHT
TZOFFSETFROM:-0500
TZOFFSETTO:-0400
TZNAME:EDT
DTSTART:20250309T070000
END:DAYLIGHT
BEGIN:STANDARD
TZOFFSETFROM:-0400
TZOFFSETTO:-0500
TZNAME:EST
DTSTART:20251102T060000
END:STANDARD
END:VTIMEZONE
BEGIN:VEVENT
DTSTART;VALUE=DATE:20240501
DTEND;VALUE=DATE:20240502
DTSTAMP:20260419T154923
CREATED:20240416T203157Z
LAST-MODIFIED:20240416T203157Z
UID:10007431-1714521600-1714607999@theredeemer.ca
SUMMARY:Prayers from Home
DESCRIPTION:All are invited to a time of prayer each Wednesday when a printed order for daily prayer will be posted on the website early in the morning. It will contain all you need for a time of prayer in your home. This is an opportunity for each of us to set aside time in the middle of the week to enter into a time of prayer and reflection. \nEach Wednesday\, we hold in our prayers the ordinary moments in life—the trials and the joys. \nThe order of service:  An Order for Daily Prayer 1 May 2024
URL:https://theredeemer.ca/event/prayers-from-home-96/
LOCATION:Online
CATEGORIES:Daily Prayer,Featured
ATTACH;FMTTYPE=image/jpeg:https://theredeemer.ca/wp-content/uploads/2024/01/Midweek-Prayer-at-Home_Spring2024.jpg
END:VEVENT
BEGIN:VEVENT
DTSTART;VALUE=DATE:20240508
DTEND;VALUE=DATE:20240509
DTSTAMP:20260419T154923
CREATED:20240416T203346Z
LAST-MODIFIED:20240416T203355Z
UID:10007432-1715126400-1715212799@theredeemer.ca
SUMMARY:Prayers from Home
DESCRIPTION:All are invited to a time of prayer each Wednesday when a printed order for daily prayer will be posted on the website early in the morning. It will contain all you need for a time of prayer in your home. This is an opportunity for each of us to set aside time in the middle of the week to enter into a time of prayer and reflection. \nEach Wednesday\, we hold in our prayers the ordinary moments in life—the trials and the joys. \nThe order of service:  An Order for Daily Prayer 8 May 2024
URL:https://theredeemer.ca/event/prayers-from-home-97/
LOCATION:Online
CATEGORIES:Daily Prayer,Featured
ATTACH;FMTTYPE=image/jpeg:https://theredeemer.ca/wp-content/uploads/2024/01/Midweek-Prayer-at-Home_Spring2024.jpg
END:VEVENT
BEGIN:VEVENT
DTSTART;VALUE=DATE:20240515
DTEND;VALUE=DATE:20240516
DTSTAMP:20260419T154923
CREATED:20240416T203501Z
LAST-MODIFIED:20240416T203501Z
UID:10007433-1715731200-1715817599@theredeemer.ca
SUMMARY:Prayers from Home
DESCRIPTION:All are invited to a time of prayer each Wednesday when a printed order for daily prayer will be posted on the website early in the morning. It will contain all you need for a time of prayer in your home. This is an opportunity for each of us to set aside time in the middle of the week to enter into a time of prayer and reflection. \nEach Wednesday\, we hold in our prayers the ordinary moments in life—the trials and the joys. \nThe order of service:  An Order for Daily Prayer 15 May 2024
URL:https://theredeemer.ca/event/prayers-from-home-98/
LOCATION:Online
CATEGORIES:Daily Prayer,Featured
ATTACH;FMTTYPE=image/jpeg:https://theredeemer.ca/wp-content/uploads/2024/01/Midweek-Prayer-at-Home_Spring2024.jpg
END:VEVENT
BEGIN:VEVENT
DTSTART;VALUE=DATE:20240522
DTEND;VALUE=DATE:20240523
DTSTAMP:20260419T154923
CREATED:20240416T204017Z
LAST-MODIFIED:20240416T204017Z
UID:10007436-1716336000-1716422399@theredeemer.ca
SUMMARY:Prayers from Home
DESCRIPTION:All are invited to a time of prayer each Wednesday when a printed order for daily prayer will be posted on the website early in the morning. It will contain all you need for a time of prayer in your home. This is an opportunity for each of us to set aside time in the middle of the week to enter into a time of prayer and reflection. \nEach Wednesday\, we hold in our prayers the ordinary moments in life—the trials and the joys. \nThe order of service:  An Order for Daily Prayer 22 May 2024
URL:https://theredeemer.ca/event/prayers-from-home-99/
LOCATION:Online
CATEGORIES:Daily Prayer,Featured
ATTACH;FMTTYPE=image/jpeg:https://theredeemer.ca/wp-content/uploads/2024/01/Midweek-Prayer-at-Home_Spring2024.jpg
END:VEVENT
BEGIN:VEVENT
DTSTART;VALUE=DATE:20240529
DTEND;VALUE=DATE:20240530
DTSTAMP:20260419T154923
CREATED:20240416T204056Z
LAST-MODIFIED:20240416T204056Z
UID:10006037-1716940800-1717027199@theredeemer.ca
SUMMARY:Prayers from Home
DESCRIPTION:All are invited to a time of prayer each Wednesday when a printed order for daily prayer will be posted on the website early in the morning. It will contain all you need for a time of prayer in your home. This is an opportunity for each of us to set aside time in the middle of the week to enter into a time of prayer and reflection. \nEach Wednesday\, we hold in our prayers the ordinary moments in life—the trials and the joys. \nThe order of service:  An Order for Daily Prayer 29 May 2024
URL:https://theredeemer.ca/event/prayers-from-home-100/
LOCATION:Online
CATEGORIES:Daily Prayer,Featured
ATTACH;FMTTYPE=image/jpeg:https://theredeemer.ca/wp-content/uploads/2024/01/Midweek-Prayer-at-Home_Spring2024.jpg
END:VEVENT
END:VCALENDAR