BEGIN:VCALENDAR
VERSION:2.0
PRODID:-//The Redeemer - ECPv6.15.17.1//NONSGML v1.0//EN
CALSCALE:GREGORIAN
METHOD:PUBLISH
X-WR-CALNAME:The Redeemer
X-ORIGINAL-URL:https://theredeemer.ca
X-WR-CALDESC:Events for The Redeemer
REFRESH-INTERVAL;VALUE=DURATION:PT1H
X-Robots-Tag:noindex
X-PUBLISHED-TTL:PT1H
BEGIN:VTIMEZONE
TZID:America/Toronto
BEGIN:DAYLIGHT
TZOFFSETFROM:-0500
TZOFFSETTO:-0400
TZNAME:EDT
DTSTART:20230312T070000
END:DAYLIGHT
BEGIN:STANDARD
TZOFFSETFROM:-0400
TZOFFSETTO:-0500
TZNAME:EST
DTSTART:20231105T060000
END:STANDARD
BEGIN:DAYLIGHT
TZOFFSETFROM:-0500
TZOFFSETTO:-0400
TZNAME:EDT
DTSTART:20240310T070000
END:DAYLIGHT
BEGIN:STANDARD
TZOFFSETFROM:-0400
TZOFFSETTO:-0500
TZNAME:EST
DTSTART:20241103T060000
END:STANDARD
BEGIN:DAYLIGHT
TZOFFSETFROM:-0500
TZOFFSETTO:-0400
TZNAME:EDT
DTSTART:20250309T070000
END:DAYLIGHT
BEGIN:STANDARD
TZOFFSETFROM:-0400
TZOFFSETTO:-0500
TZNAME:EST
DTSTART:20251102T060000
END:STANDARD
END:VTIMEZONE
BEGIN:VEVENT
DTSTART;VALUE=DATE:20240605
DTEND;VALUE=DATE:20240606
DTSTAMP:20260419T142147
CREATED:20240506T204500Z
LAST-MODIFIED:20240506T204500Z
UID:10006137-1717545600-1717631999@theredeemer.ca
SUMMARY:Prayers from Home
DESCRIPTION:All are invited to a time of prayer each Wednesday when a printed order for daily prayer will be posted on the website early in the morning. It will contain all you need for a time of prayer in your home. This is an opportunity for each of us to set aside time in the middle of the week to enter into a time of prayer and reflection. \nEach Wednesday\, we hold in our prayers the ordinary moments in life—the trials and the joys. \nThe order of service:  An Order for Daily Prayer 5 June 2024
URL:https://theredeemer.ca/event/prayers-from-home-101/
LOCATION:Online
CATEGORIES:Daily Prayer,Featured
ATTACH;FMTTYPE=image/jpeg:https://theredeemer.ca/wp-content/uploads/2022/04/Midweek-Prayer-at-Home_Summer.jpg
END:VEVENT
BEGIN:VEVENT
DTSTART;VALUE=DATE:20240612
DTEND;VALUE=DATE:20240613
DTSTAMP:20260419T142147
CREATED:20240506T204612Z
LAST-MODIFIED:20240506T204612Z
UID:10006139-1718150400-1718236799@theredeemer.ca
SUMMARY:Prayers from Home
DESCRIPTION:All are invited to a time of prayer each Wednesday when a printed order for daily prayer will be posted on the website early in the morning. It will contain all you need for a time of prayer in your home. This is an opportunity for each of us to set aside time in the middle of the week to enter into a time of prayer and reflection. \nEach Wednesday\, we hold in our prayers the ordinary moments in life—the trials and the joys. \nThe order of service:  An Order for Daily Prayer 12 June 2024
URL:https://theredeemer.ca/event/prayers-from-home-102/
LOCATION:Online
CATEGORIES:Daily Prayer,Featured
ATTACH;FMTTYPE=image/jpeg:https://theredeemer.ca/wp-content/uploads/2022/04/Midweek-Prayer-at-Home_Summer.jpg
END:VEVENT
BEGIN:VEVENT
DTSTART;VALUE=DATE:20240619
DTEND;VALUE=DATE:20240620
DTSTAMP:20260419T142147
CREATED:20240506T204642Z
LAST-MODIFIED:20240506T204642Z
UID:10006141-1718755200-1718841599@theredeemer.ca
SUMMARY:Prayers from Home
DESCRIPTION:All are invited to a time of prayer each Wednesday when a printed order for daily prayer will be posted on the website early in the morning. It will contain all you need for a time of prayer in your home. This is an opportunity for each of us to set aside time in the middle of the week to enter into a time of prayer and reflection. \nEach Wednesday\, we hold in our prayers the ordinary moments in life—the trials and the joys. \nThe order of service:  An Order for Daily Prayer 19 June 2024
URL:https://theredeemer.ca/event/prayers-from-home-103/
LOCATION:Online
CATEGORIES:Daily Prayer,Featured
ATTACH;FMTTYPE=image/jpeg:https://theredeemer.ca/wp-content/uploads/2022/04/Midweek-Prayer-at-Home_Summer.jpg
END:VEVENT
BEGIN:VEVENT
DTSTART;VALUE=DATE:20240626
DTEND;VALUE=DATE:20240627
DTSTAMP:20260419T142147
CREATED:20240506T204717Z
LAST-MODIFIED:20240506T204717Z
UID:10006143-1719360000-1719446399@theredeemer.ca
SUMMARY:Prayers from Home
DESCRIPTION:All are invited to a time of prayer each Wednesday when a printed order for daily prayer will be posted on the website early in the morning. It will contain all you need for a time of prayer in your home. This is an opportunity for each of us to set aside time in the middle of the week to enter into a time of prayer and reflection. \nEach Wednesday\, we hold in our prayers the ordinary moments in life—the trials and the joys. \nThe order of service:  An Order for Daily Prayer 26 June 2024
URL:https://theredeemer.ca/event/prayers-from-home-104/
LOCATION:Online
CATEGORIES:Daily Prayer,Featured
ATTACH;FMTTYPE=image/jpeg:https://theredeemer.ca/wp-content/uploads/2022/04/Midweek-Prayer-at-Home_Summer.jpg
END:VEVENT
END:VCALENDAR