BEGIN:VCALENDAR
VERSION:2.0
PRODID:-//The Redeemer - ECPv6.15.17.1//NONSGML v1.0//EN
CALSCALE:GREGORIAN
METHOD:PUBLISH
X-WR-CALNAME:The Redeemer
X-ORIGINAL-URL:https://theredeemer.ca
X-WR-CALDESC:Events for The Redeemer
REFRESH-INTERVAL;VALUE=DURATION:PT1H
X-Robots-Tag:noindex
X-PUBLISHED-TTL:PT1H
BEGIN:VTIMEZONE
TZID:America/Toronto
BEGIN:DAYLIGHT
TZOFFSETFROM:-0500
TZOFFSETTO:-0400
TZNAME:EDT
DTSTART:20230312T070000
END:DAYLIGHT
BEGIN:STANDARD
TZOFFSETFROM:-0400
TZOFFSETTO:-0500
TZNAME:EST
DTSTART:20231105T060000
END:STANDARD
BEGIN:DAYLIGHT
TZOFFSETFROM:-0500
TZOFFSETTO:-0400
TZNAME:EDT
DTSTART:20240310T070000
END:DAYLIGHT
BEGIN:STANDARD
TZOFFSETFROM:-0400
TZOFFSETTO:-0500
TZNAME:EST
DTSTART:20241103T060000
END:STANDARD
BEGIN:DAYLIGHT
TZOFFSETFROM:-0500
TZOFFSETTO:-0400
TZNAME:EDT
DTSTART:20250309T070000
END:DAYLIGHT
BEGIN:STANDARD
TZOFFSETFROM:-0400
TZOFFSETTO:-0500
TZNAME:EST
DTSTART:20251102T060000
END:STANDARD
END:VTIMEZONE
BEGIN:VEVENT
DTSTART;TZID=America/Toronto:20241107T121500
DTEND;TZID=America/Toronto:20241107T124500
DTSTAMP:20260421T075717
CREATED:20241105T154120Z
LAST-MODIFIED:20241105T154120Z
UID:10007673-1730981700-1730983500@theredeemer.ca
SUMMARY:Mid-day Prayer
DESCRIPTION:Join members of the community for mid-day prayer on Zoom at 12:15 PM. For about 20 minutes we pause to hear scripture read and to pray for what’s on our hearts and for the cares and concerns of the world. \nThe Zoom link will be sent out through eNews. \nYou may find it helpful to have a bible and a copy of the Book of Alternative Services (for the Psalter) with you for use during the service.
URL:https://theredeemer.ca/event/mid-day-prayer-17-2/2024-11-07/
LOCATION:Zoom
CATEGORIES:Daily Prayer,Online,Services
ATTACH;FMTTYPE=image/jpeg:https://theredeemer.ca/wp-content/uploads/2022/04/Mid_day_Prayer_Autumn.jpg
END:VEVENT
BEGIN:VEVENT
DTSTART;TZID=America/Toronto:20241108T121500
DTEND;TZID=America/Toronto:20241108T124500
DTSTAMP:20260421T075717
CREATED:20241105T154120Z
LAST-MODIFIED:20241105T154120Z
UID:10007674-1731068100-1731069900@theredeemer.ca
SUMMARY:Mid-day Prayer
DESCRIPTION:Join members of the community for mid-day prayer on Zoom at 12:15 PM. For about 20 minutes we pause to hear scripture read and to pray for what’s on our hearts and for the cares and concerns of the world. \nThe Zoom link will be sent out through eNews. \nYou may find it helpful to have a bible and a copy of the Book of Alternative Services (for the Psalter) with you for use during the service.
URL:https://theredeemer.ca/event/mid-day-prayer-17-2/2024-11-08/
LOCATION:Zoom
CATEGORIES:Daily Prayer,Online,Services
ATTACH;FMTTYPE=image/jpeg:https://theredeemer.ca/wp-content/uploads/2022/04/Mid_day_Prayer_Autumn.jpg
END:VEVENT
BEGIN:VEVENT
DTSTART;TZID=America/Toronto:20241109T121500
DTEND;TZID=America/Toronto:20241109T124500
DTSTAMP:20260421T075717
CREATED:20241105T154120Z
LAST-MODIFIED:20241105T154120Z
UID:10007675-1731154500-1731156300@theredeemer.ca
SUMMARY:Mid-day Prayer
DESCRIPTION:Join members of the community for mid-day prayer on Zoom at 12:15 PM. For about 20 minutes we pause to hear scripture read and to pray for what’s on our hearts and for the cares and concerns of the world. \nThe Zoom link will be sent out through eNews. \nYou may find it helpful to have a bible and a copy of the Book of Alternative Services (for the Psalter) with you for use during the service.
URL:https://theredeemer.ca/event/mid-day-prayer-17-2/2024-11-09/
LOCATION:Zoom
CATEGORIES:Daily Prayer,Online,Services
ATTACH;FMTTYPE=image/jpeg:https://theredeemer.ca/wp-content/uploads/2022/04/Mid_day_Prayer_Autumn.jpg
END:VEVENT
BEGIN:VEVENT
DTSTART;TZID=America/Toronto:20241110T121500
DTEND;TZID=America/Toronto:20241110T124500
DTSTAMP:20260421T075717
CREATED:20241105T154120Z
LAST-MODIFIED:20241105T154120Z
UID:10007699-1731240900-1731242700@theredeemer.ca
SUMMARY:Mid-day Prayer
DESCRIPTION:Join members of the community for mid-day prayer on Zoom at 12:15 PM. For about 20 minutes we pause to hear scripture read and to pray for what’s on our hearts and for the cares and concerns of the world. \nThe Zoom link will be sent out through eNews. \nYou may find it helpful to have a bible and a copy of the Book of Alternative Services (for the Psalter) with you for use during the service.
URL:https://theredeemer.ca/event/mid-day-prayer-17-2/2024-11-10/
LOCATION:Zoom
CATEGORIES:Daily Prayer,Online,Services
ATTACH;FMTTYPE=image/jpeg:https://theredeemer.ca/wp-content/uploads/2022/04/Mid_day_Prayer_Autumn.jpg
END:VEVENT
BEGIN:VEVENT
DTSTART;TZID=America/Toronto:20241111T121500
DTEND;TZID=America/Toronto:20241111T124500
DTSTAMP:20260421T075717
CREATED:20241105T154120Z
LAST-MODIFIED:20241105T154120Z
UID:10007676-1731327300-1731329100@theredeemer.ca
SUMMARY:Mid-day Prayer
DESCRIPTION:Join members of the community for mid-day prayer on Zoom at 12:15 PM. For about 20 minutes we pause to hear scripture read and to pray for what’s on our hearts and for the cares and concerns of the world. \nThe Zoom link will be sent out through eNews. \nYou may find it helpful to have a bible and a copy of the Book of Alternative Services (for the Psalter) with you for use during the service.
URL:https://theredeemer.ca/event/mid-day-prayer-17-2/2024-11-11/
LOCATION:Zoom
CATEGORIES:Daily Prayer,Online,Services
ATTACH;FMTTYPE=image/jpeg:https://theredeemer.ca/wp-content/uploads/2022/04/Mid_day_Prayer_Autumn.jpg
END:VEVENT
BEGIN:VEVENT
DTSTART;TZID=America/Toronto:20241112T121500
DTEND;TZID=America/Toronto:20241112T124500
DTSTAMP:20260421T075717
CREATED:20241105T154120Z
LAST-MODIFIED:20241105T154120Z
UID:10007677-1731413700-1731415500@theredeemer.ca
SUMMARY:Mid-day Prayer
DESCRIPTION:Join members of the community for mid-day prayer on Zoom at 12:15 PM. For about 20 minutes we pause to hear scripture read and to pray for what’s on our hearts and for the cares and concerns of the world. \nThe Zoom link will be sent out through eNews. \nYou may find it helpful to have a bible and a copy of the Book of Alternative Services (for the Psalter) with you for use during the service.
URL:https://theredeemer.ca/event/mid-day-prayer-17-2/2024-11-12/
LOCATION:Zoom
CATEGORIES:Daily Prayer,Online,Services
ATTACH;FMTTYPE=image/jpeg:https://theredeemer.ca/wp-content/uploads/2022/04/Mid_day_Prayer_Autumn.jpg
END:VEVENT
BEGIN:VEVENT
DTSTART;VALUE=DATE:20241113
DTEND;VALUE=DATE:20241114
DTSTAMP:20260421T075717
CREATED:20240909T222658Z
LAST-MODIFIED:20241105T153652Z
UID:10006257-1731456000-1731542399@theredeemer.ca
SUMMARY:Prayers from Home
DESCRIPTION:All are invited to a time of prayer each Wednesday when a printed order for daily prayer will be posted on the website early in the morning. It will contain all you need for a time of prayer in your home. This is an opportunity for each of us to set aside time in the middle of the week to enter into a time of prayer and reflection. \nEach Wednesday\, we hold in our prayers the ordinary moments in life—the trials and the joys. \nThe order of service: An Order for Daily Prayer 13 November 2024
URL:https://theredeemer.ca/event/prayers-from-home-124/
LOCATION:Online
CATEGORIES:Daily Prayer,Featured
ATTACH;FMTTYPE=image/jpeg:https://theredeemer.ca/wp-content/uploads/2022/09/Midweek-Prayer-at-Home_Autumn.jpg
END:VEVENT
BEGIN:VEVENT
DTSTART;TZID=America/Toronto:20241113T121500
DTEND;TZID=America/Toronto:20241113T124500
DTSTAMP:20260421T075717
CREATED:20241105T154120Z
LAST-MODIFIED:20241105T154120Z
UID:10007678-1731500100-1731501900@theredeemer.ca
SUMMARY:Mid-day Prayer
DESCRIPTION:Join members of the community for mid-day prayer on Zoom at 12:15 PM. For about 20 minutes we pause to hear scripture read and to pray for what’s on our hearts and for the cares and concerns of the world. \nThe Zoom link will be sent out through eNews. \nYou may find it helpful to have a bible and a copy of the Book of Alternative Services (for the Psalter) with you for use during the service.
URL:https://theredeemer.ca/event/mid-day-prayer-17-2/2024-11-13/
LOCATION:Zoom
CATEGORIES:Daily Prayer,Online,Services
ATTACH;FMTTYPE=image/jpeg:https://theredeemer.ca/wp-content/uploads/2022/04/Mid_day_Prayer_Autumn.jpg
END:VEVENT
BEGIN:VEVENT
DTSTART;TZID=America/Toronto:20241114T121500
DTEND;TZID=America/Toronto:20241114T124500
DTSTAMP:20260421T075717
CREATED:20241105T154120Z
LAST-MODIFIED:20241105T154120Z
UID:10007679-1731586500-1731588300@theredeemer.ca
SUMMARY:Mid-day Prayer
DESCRIPTION:Join members of the community for mid-day prayer on Zoom at 12:15 PM. For about 20 minutes we pause to hear scripture read and to pray for what’s on our hearts and for the cares and concerns of the world. \nThe Zoom link will be sent out through eNews. \nYou may find it helpful to have a bible and a copy of the Book of Alternative Services (for the Psalter) with you for use during the service.
URL:https://theredeemer.ca/event/mid-day-prayer-17-2/2024-11-14/
LOCATION:Zoom
CATEGORIES:Daily Prayer,Online,Services
ATTACH;FMTTYPE=image/jpeg:https://theredeemer.ca/wp-content/uploads/2022/04/Mid_day_Prayer_Autumn.jpg
END:VEVENT
BEGIN:VEVENT
DTSTART;TZID=America/Toronto:20241115T121500
DTEND;TZID=America/Toronto:20241115T124500
DTSTAMP:20260421T075717
CREATED:20241105T154120Z
LAST-MODIFIED:20241105T154120Z
UID:10007680-1731672900-1731674700@theredeemer.ca
SUMMARY:Mid-day Prayer
DESCRIPTION:Join members of the community for mid-day prayer on Zoom at 12:15 PM. For about 20 minutes we pause to hear scripture read and to pray for what’s on our hearts and for the cares and concerns of the world. \nThe Zoom link will be sent out through eNews. \nYou may find it helpful to have a bible and a copy of the Book of Alternative Services (for the Psalter) with you for use during the service.
URL:https://theredeemer.ca/event/mid-day-prayer-17-2/2024-11-15/
LOCATION:Zoom
CATEGORIES:Daily Prayer,Online,Services
ATTACH;FMTTYPE=image/jpeg:https://theredeemer.ca/wp-content/uploads/2022/04/Mid_day_Prayer_Autumn.jpg
END:VEVENT
BEGIN:VEVENT
DTSTART;TZID=America/Toronto:20241116T121500
DTEND;TZID=America/Toronto:20241116T124500
DTSTAMP:20260421T075717
CREATED:20241105T154120Z
LAST-MODIFIED:20241105T154120Z
UID:10007681-1731759300-1731761100@theredeemer.ca
SUMMARY:Mid-day Prayer
DESCRIPTION:Join members of the community for mid-day prayer on Zoom at 12:15 PM. For about 20 minutes we pause to hear scripture read and to pray for what’s on our hearts and for the cares and concerns of the world. \nThe Zoom link will be sent out through eNews. \nYou may find it helpful to have a bible and a copy of the Book of Alternative Services (for the Psalter) with you for use during the service.
URL:https://theredeemer.ca/event/mid-day-prayer-17-2/2024-11-16/
LOCATION:Zoom
CATEGORIES:Daily Prayer,Online,Services
ATTACH;FMTTYPE=image/jpeg:https://theredeemer.ca/wp-content/uploads/2022/04/Mid_day_Prayer_Autumn.jpg
END:VEVENT
BEGIN:VEVENT
DTSTART;TZID=America/Toronto:20241117T121500
DTEND;TZID=America/Toronto:20241117T124500
DTSTAMP:20260421T075717
CREATED:20241105T154120Z
LAST-MODIFIED:20241105T154120Z
UID:10007700-1731845700-1731847500@theredeemer.ca
SUMMARY:Mid-day Prayer
DESCRIPTION:Join members of the community for mid-day prayer on Zoom at 12:15 PM. For about 20 minutes we pause to hear scripture read and to pray for what’s on our hearts and for the cares and concerns of the world. \nThe Zoom link will be sent out through eNews. \nYou may find it helpful to have a bible and a copy of the Book of Alternative Services (for the Psalter) with you for use during the service.
URL:https://theredeemer.ca/event/mid-day-prayer-17-2/2024-11-17/
LOCATION:Zoom
CATEGORIES:Daily Prayer,Online,Services
ATTACH;FMTTYPE=image/jpeg:https://theredeemer.ca/wp-content/uploads/2022/04/Mid_day_Prayer_Autumn.jpg
END:VEVENT
BEGIN:VEVENT
DTSTART;TZID=America/Toronto:20241118T121500
DTEND;TZID=America/Toronto:20241118T124500
DTSTAMP:20260421T075717
CREATED:20241105T154120Z
LAST-MODIFIED:20241105T154120Z
UID:10007682-1731932100-1731933900@theredeemer.ca
SUMMARY:Mid-day Prayer
DESCRIPTION:Join members of the community for mid-day prayer on Zoom at 12:15 PM. For about 20 minutes we pause to hear scripture read and to pray for what’s on our hearts and for the cares and concerns of the world. \nThe Zoom link will be sent out through eNews. \nYou may find it helpful to have a bible and a copy of the Book of Alternative Services (for the Psalter) with you for use during the service.
URL:https://theredeemer.ca/event/mid-day-prayer-17-2/2024-11-18/
LOCATION:Zoom
CATEGORIES:Daily Prayer,Online,Services
ATTACH;FMTTYPE=image/jpeg:https://theredeemer.ca/wp-content/uploads/2022/04/Mid_day_Prayer_Autumn.jpg
END:VEVENT
BEGIN:VEVENT
DTSTART;TZID=America/Toronto:20241119T121500
DTEND;TZID=America/Toronto:20241119T124500
DTSTAMP:20260421T075717
CREATED:20241105T154120Z
LAST-MODIFIED:20241105T154120Z
UID:10007683-1732018500-1732020300@theredeemer.ca
SUMMARY:Mid-day Prayer
DESCRIPTION:Join members of the community for mid-day prayer on Zoom at 12:15 PM. For about 20 minutes we pause to hear scripture read and to pray for what’s on our hearts and for the cares and concerns of the world. \nThe Zoom link will be sent out through eNews. \nYou may find it helpful to have a bible and a copy of the Book of Alternative Services (for the Psalter) with you for use during the service.
URL:https://theredeemer.ca/event/mid-day-prayer-17-2/2024-11-19/
LOCATION:Zoom
CATEGORIES:Daily Prayer,Online,Services
ATTACH;FMTTYPE=image/jpeg:https://theredeemer.ca/wp-content/uploads/2022/04/Mid_day_Prayer_Autumn.jpg
END:VEVENT
BEGIN:VEVENT
DTSTART;VALUE=DATE:20241120
DTEND;VALUE=DATE:20241121
DTSTAMP:20260421T075717
CREATED:20240909T222719Z
LAST-MODIFIED:20241112T153421Z
UID:10006258-1732060800-1732147199@theredeemer.ca
SUMMARY:Prayers from Home
DESCRIPTION:All are invited to a time of prayer each Wednesday when a printed order for daily prayer will be posted on the website early in the morning. It will contain all you need for a time of prayer in your home. This is an opportunity for each of us to set aside time in the middle of the week to enter into a time of prayer and reflection. \nEach Wednesday\, we hold in our prayers the ordinary moments in life—the trials and the joys. \nThe order of service: An Order for Daily Prayer 20 November 2024
URL:https://theredeemer.ca/event/prayers-from-home-125/
LOCATION:Online
CATEGORIES:Daily Prayer,Featured
ATTACH;FMTTYPE=image/jpeg:https://theredeemer.ca/wp-content/uploads/2022/09/Midweek-Prayer-at-Home_Autumn.jpg
END:VEVENT
BEGIN:VEVENT
DTSTART;TZID=America/Toronto:20241120T121500
DTEND;TZID=America/Toronto:20241120T124500
DTSTAMP:20260421T075717
CREATED:20241105T154120Z
LAST-MODIFIED:20241105T154120Z
UID:10007684-1732104900-1732106700@theredeemer.ca
SUMMARY:Mid-day Prayer
DESCRIPTION:Join members of the community for mid-day prayer on Zoom at 12:15 PM. For about 20 minutes we pause to hear scripture read and to pray for what’s on our hearts and for the cares and concerns of the world. \nThe Zoom link will be sent out through eNews. \nYou may find it helpful to have a bible and a copy of the Book of Alternative Services (for the Psalter) with you for use during the service.
URL:https://theredeemer.ca/event/mid-day-prayer-17-2/2024-11-20/
LOCATION:Zoom
CATEGORIES:Daily Prayer,Online,Services
ATTACH;FMTTYPE=image/jpeg:https://theredeemer.ca/wp-content/uploads/2022/04/Mid_day_Prayer_Autumn.jpg
END:VEVENT
BEGIN:VEVENT
DTSTART;TZID=America/Toronto:20241121T121500
DTEND;TZID=America/Toronto:20241121T124500
DTSTAMP:20260421T075717
CREATED:20241105T154120Z
LAST-MODIFIED:20241105T154120Z
UID:10007685-1732191300-1732193100@theredeemer.ca
SUMMARY:Mid-day Prayer
DESCRIPTION:Join members of the community for mid-day prayer on Zoom at 12:15 PM. For about 20 minutes we pause to hear scripture read and to pray for what’s on our hearts and for the cares and concerns of the world. \nThe Zoom link will be sent out through eNews. \nYou may find it helpful to have a bible and a copy of the Book of Alternative Services (for the Psalter) with you for use during the service.
URL:https://theredeemer.ca/event/mid-day-prayer-17-2/2024-11-21/
LOCATION:Zoom
CATEGORIES:Daily Prayer,Online,Services
ATTACH;FMTTYPE=image/jpeg:https://theredeemer.ca/wp-content/uploads/2022/04/Mid_day_Prayer_Autumn.jpg
END:VEVENT
BEGIN:VEVENT
DTSTART;TZID=America/Toronto:20241122T121500
DTEND;TZID=America/Toronto:20241122T124500
DTSTAMP:20260421T075717
CREATED:20241105T154120Z
LAST-MODIFIED:20241105T154120Z
UID:10007686-1732277700-1732279500@theredeemer.ca
SUMMARY:Mid-day Prayer
DESCRIPTION:Join members of the community for mid-day prayer on Zoom at 12:15 PM. For about 20 minutes we pause to hear scripture read and to pray for what’s on our hearts and for the cares and concerns of the world. \nThe Zoom link will be sent out through eNews. \nYou may find it helpful to have a bible and a copy of the Book of Alternative Services (for the Psalter) with you for use during the service.
URL:https://theredeemer.ca/event/mid-day-prayer-17-2/2024-11-22/
LOCATION:Zoom
CATEGORIES:Daily Prayer,Online,Services
ATTACH;FMTTYPE=image/jpeg:https://theredeemer.ca/wp-content/uploads/2022/04/Mid_day_Prayer_Autumn.jpg
END:VEVENT
BEGIN:VEVENT
DTSTART;TZID=America/Toronto:20241123T121500
DTEND;TZID=America/Toronto:20241123T124500
DTSTAMP:20260421T075717
CREATED:20241105T154120Z
LAST-MODIFIED:20241105T154120Z
UID:10007687-1732364100-1732365900@theredeemer.ca
SUMMARY:Mid-day Prayer
DESCRIPTION:Join members of the community for mid-day prayer on Zoom at 12:15 PM. For about 20 minutes we pause to hear scripture read and to pray for what’s on our hearts and for the cares and concerns of the world. \nThe Zoom link will be sent out through eNews. \nYou may find it helpful to have a bible and a copy of the Book of Alternative Services (for the Psalter) with you for use during the service.
URL:https://theredeemer.ca/event/mid-day-prayer-17-2/2024-11-23/
LOCATION:Zoom
CATEGORIES:Daily Prayer,Online,Services
ATTACH;FMTTYPE=image/jpeg:https://theredeemer.ca/wp-content/uploads/2022/04/Mid_day_Prayer_Autumn.jpg
END:VEVENT
BEGIN:VEVENT
DTSTART;TZID=America/Toronto:20241124T121500
DTEND;TZID=America/Toronto:20241124T124500
DTSTAMP:20260421T075717
CREATED:20241105T154120Z
LAST-MODIFIED:20241105T154120Z
UID:10007701-1732450500-1732452300@theredeemer.ca
SUMMARY:Mid-day Prayer
DESCRIPTION:Join members of the community for mid-day prayer on Zoom at 12:15 PM. For about 20 minutes we pause to hear scripture read and to pray for what’s on our hearts and for the cares and concerns of the world. \nThe Zoom link will be sent out through eNews. \nYou may find it helpful to have a bible and a copy of the Book of Alternative Services (for the Psalter) with you for use during the service.
URL:https://theredeemer.ca/event/mid-day-prayer-17-2/2024-11-24/
LOCATION:Zoom
CATEGORIES:Daily Prayer,Online,Services
ATTACH;FMTTYPE=image/jpeg:https://theredeemer.ca/wp-content/uploads/2022/04/Mid_day_Prayer_Autumn.jpg
END:VEVENT
BEGIN:VEVENT
DTSTART;TZID=America/Toronto:20241125T121500
DTEND;TZID=America/Toronto:20241125T124500
DTSTAMP:20260421T075717
CREATED:20241105T154120Z
LAST-MODIFIED:20241105T154120Z
UID:10007688-1732536900-1732538700@theredeemer.ca
SUMMARY:Mid-day Prayer
DESCRIPTION:Join members of the community for mid-day prayer on Zoom at 12:15 PM. For about 20 minutes we pause to hear scripture read and to pray for what’s on our hearts and for the cares and concerns of the world. \nThe Zoom link will be sent out through eNews. \nYou may find it helpful to have a bible and a copy of the Book of Alternative Services (for the Psalter) with you for use during the service.
URL:https://theredeemer.ca/event/mid-day-prayer-17-2/2024-11-25/
LOCATION:Zoom
CATEGORIES:Daily Prayer,Online,Services
ATTACH;FMTTYPE=image/jpeg:https://theredeemer.ca/wp-content/uploads/2022/04/Mid_day_Prayer_Autumn.jpg
END:VEVENT
BEGIN:VEVENT
DTSTART;TZID=America/Toronto:20241126T121500
DTEND;TZID=America/Toronto:20241126T124500
DTSTAMP:20260421T075717
CREATED:20241105T154120Z
LAST-MODIFIED:20241105T154120Z
UID:10007689-1732623300-1732625100@theredeemer.ca
SUMMARY:Mid-day Prayer
DESCRIPTION:Join members of the community for mid-day prayer on Zoom at 12:15 PM. For about 20 minutes we pause to hear scripture read and to pray for what’s on our hearts and for the cares and concerns of the world. \nThe Zoom link will be sent out through eNews. \nYou may find it helpful to have a bible and a copy of the Book of Alternative Services (for the Psalter) with you for use during the service.
URL:https://theredeemer.ca/event/mid-day-prayer-17-2/2024-11-26/
LOCATION:Zoom
CATEGORIES:Daily Prayer,Online,Services
ATTACH;FMTTYPE=image/jpeg:https://theredeemer.ca/wp-content/uploads/2022/04/Mid_day_Prayer_Autumn.jpg
END:VEVENT
BEGIN:VEVENT
DTSTART;VALUE=DATE:20241127
DTEND;VALUE=DATE:20241128
DTSTAMP:20260421T075717
CREATED:20240909T222737Z
LAST-MODIFIED:20241112T153515Z
UID:10006259-1732665600-1732751999@theredeemer.ca
SUMMARY:Prayers from Home
DESCRIPTION:All are invited to a time of prayer each Wednesday when a printed order for daily prayer will be posted on the website early in the morning. It will contain all you need for a time of prayer in your home. This is an opportunity for each of us to set aside time in the middle of the week to enter into a time of prayer and reflection. \nEach Wednesday\, we hold in our prayers the ordinary moments in life—the trials and the joys. \nThe order of service: An Order for Daily Prayer 27 November 2024
URL:https://theredeemer.ca/event/prayers-from-home-126/
LOCATION:Online
CATEGORIES:Daily Prayer,Featured
ATTACH;FMTTYPE=image/jpeg:https://theredeemer.ca/wp-content/uploads/2022/09/Midweek-Prayer-at-Home_Autumn.jpg
END:VEVENT
BEGIN:VEVENT
DTSTART;TZID=America/Toronto:20241127T121500
DTEND;TZID=America/Toronto:20241127T124500
DTSTAMP:20260421T075717
CREATED:20241105T154120Z
LAST-MODIFIED:20241105T154120Z
UID:10007690-1732709700-1732711500@theredeemer.ca
SUMMARY:Mid-day Prayer
DESCRIPTION:Join members of the community for mid-day prayer on Zoom at 12:15 PM. For about 20 minutes we pause to hear scripture read and to pray for what’s on our hearts and for the cares and concerns of the world. \nThe Zoom link will be sent out through eNews. \nYou may find it helpful to have a bible and a copy of the Book of Alternative Services (for the Psalter) with you for use during the service.
URL:https://theredeemer.ca/event/mid-day-prayer-17-2/2024-11-27/
LOCATION:Zoom
CATEGORIES:Daily Prayer,Online,Services
ATTACH;FMTTYPE=image/jpeg:https://theredeemer.ca/wp-content/uploads/2022/04/Mid_day_Prayer_Autumn.jpg
END:VEVENT
BEGIN:VEVENT
DTSTART;TZID=America/Toronto:20241128T121500
DTEND;TZID=America/Toronto:20241128T124500
DTSTAMP:20260421T075717
CREATED:20241105T154120Z
LAST-MODIFIED:20241105T154120Z
UID:10007691-1732796100-1732797900@theredeemer.ca
SUMMARY:Mid-day Prayer
DESCRIPTION:Join members of the community for mid-day prayer on Zoom at 12:15 PM. For about 20 minutes we pause to hear scripture read and to pray for what’s on our hearts and for the cares and concerns of the world. \nThe Zoom link will be sent out through eNews. \nYou may find it helpful to have a bible and a copy of the Book of Alternative Services (for the Psalter) with you for use during the service.
URL:https://theredeemer.ca/event/mid-day-prayer-17-2/2024-11-28/
LOCATION:Zoom
CATEGORIES:Daily Prayer,Online,Services
ATTACH;FMTTYPE=image/jpeg:https://theredeemer.ca/wp-content/uploads/2022/04/Mid_day_Prayer_Autumn.jpg
END:VEVENT
BEGIN:VEVENT
DTSTART;TZID=America/Toronto:20241129T121500
DTEND;TZID=America/Toronto:20241129T124500
DTSTAMP:20260421T075717
CREATED:20241105T154120Z
LAST-MODIFIED:20241105T154120Z
UID:10007692-1732882500-1732884300@theredeemer.ca
SUMMARY:Mid-day Prayer
DESCRIPTION:Join members of the community for mid-day prayer on Zoom at 12:15 PM. For about 20 minutes we pause to hear scripture read and to pray for what’s on our hearts and for the cares and concerns of the world. \nThe Zoom link will be sent out through eNews. \nYou may find it helpful to have a bible and a copy of the Book of Alternative Services (for the Psalter) with you for use during the service.
URL:https://theredeemer.ca/event/mid-day-prayer-17-2/2024-11-29/
LOCATION:Zoom
CATEGORIES:Daily Prayer,Online,Services
ATTACH;FMTTYPE=image/jpeg:https://theredeemer.ca/wp-content/uploads/2022/04/Mid_day_Prayer_Autumn.jpg
END:VEVENT
BEGIN:VEVENT
DTSTART;TZID=America/Toronto:20241130T121500
DTEND;TZID=America/Toronto:20241130T124500
DTSTAMP:20260421T075717
CREATED:20241105T154120Z
LAST-MODIFIED:20241105T154120Z
UID:10007693-1732968900-1732970700@theredeemer.ca
SUMMARY:Mid-day Prayer
DESCRIPTION:Join members of the community for mid-day prayer on Zoom at 12:15 PM. For about 20 minutes we pause to hear scripture read and to pray for what’s on our hearts and for the cares and concerns of the world. \nThe Zoom link will be sent out through eNews. \nYou may find it helpful to have a bible and a copy of the Book of Alternative Services (for the Psalter) with you for use during the service.
URL:https://theredeemer.ca/event/mid-day-prayer-17-2/2024-11-30/
LOCATION:Zoom
CATEGORIES:Daily Prayer,Online,Services
ATTACH;FMTTYPE=image/jpeg:https://theredeemer.ca/wp-content/uploads/2022/04/Mid_day_Prayer_Autumn.jpg
END:VEVENT
BEGIN:VEVENT
DTSTART;VALUE=DATE:20241204
DTEND;VALUE=DATE:20241205
DTSTAMP:20260421T075717
CREATED:20241115T210441Z
LAST-MODIFIED:20241115T210441Z
UID:10007707-1733270400-1733356799@theredeemer.ca
SUMMARY:Prayers from Home
DESCRIPTION:All are invited to a time of prayer each Wednesday when a printed order for daily prayer will be posted on the website early in the morning. It will contain all you need for a time of prayer in your home. This is an opportunity for each of us to set aside time in the middle of the week to enter into a time of prayer and reflection. \nEach Wednesday\, we hold in our prayers the ordinary moments in life—the trials and the joys. \nThe order of service: An Order for Daily Prayer 4 December 2024
URL:https://theredeemer.ca/event/prayers-from-home-127/
LOCATION:Online
CATEGORIES:Daily Prayer,Featured
ATTACH;FMTTYPE=image/jpeg:https://theredeemer.ca/wp-content/uploads/2022/09/Midweek-Prayer-at-Home_Autumn.jpg
END:VEVENT
BEGIN:VEVENT
DTSTART;VALUE=DATE:20241211
DTEND;VALUE=DATE:20241212
DTSTAMP:20260421T075717
CREATED:20241115T210522Z
LAST-MODIFIED:20241115T210522Z
UID:10007708-1733875200-1733961599@theredeemer.ca
SUMMARY:Prayers from Home
DESCRIPTION:All are invited to a time of prayer each Wednesday when a printed order for daily prayer will be posted on the website early in the morning. It will contain all you need for a time of prayer in your home. This is an opportunity for each of us to set aside time in the middle of the week to enter into a time of prayer and reflection. \nEach Wednesday\, we hold in our prayers the ordinary moments in life—the trials and the joys. \nThe order of service: An Order for Daily Prayer 11 December 2024
URL:https://theredeemer.ca/event/prayers-from-home-128/
LOCATION:Online
CATEGORIES:Daily Prayer,Featured
ATTACH;FMTTYPE=image/jpeg:https://theredeemer.ca/wp-content/uploads/2022/09/Midweek-Prayer-at-Home_Autumn.jpg
END:VEVENT
BEGIN:VEVENT
DTSTART;VALUE=DATE:20241218
DTEND;VALUE=DATE:20241219
DTSTAMP:20260421T075717
CREATED:20241115T210618Z
LAST-MODIFIED:20241115T210618Z
UID:10007709-1734480000-1734566399@theredeemer.ca
SUMMARY:Prayers from Home
DESCRIPTION:All are invited to a time of prayer each Wednesday when a printed order for daily prayer will be posted on the website early in the morning. It will contain all you need for a time of prayer in your home. This is an opportunity for each of us to set aside time in the middle of the week to enter into a time of prayer and reflection. \nEach Wednesday\, we hold in our prayers the ordinary moments in life—the trials and the joys. \nThe order of service: An Order for Daily Prayer 18 December 2024
URL:https://theredeemer.ca/event/prayers-from-home-129/
LOCATION:Online
CATEGORIES:Daily Prayer,Featured
ATTACH;FMTTYPE=image/jpeg:https://theredeemer.ca/wp-content/uploads/2022/09/Midweek-Prayer-at-Home_Autumn.jpg
END:VEVENT
END:VCALENDAR