BEGIN:VCALENDAR
VERSION:2.0
PRODID:-//The Redeemer - ECPv6.15.17.1//NONSGML v1.0//EN
CALSCALE:GREGORIAN
METHOD:PUBLISH
X-ORIGINAL-URL:https://theredeemer.ca
X-WR-CALDESC:Events for The Redeemer
REFRESH-INTERVAL;VALUE=DURATION:PT1H
X-Robots-Tag:noindex
X-PUBLISHED-TTL:PT1H
BEGIN:VTIMEZONE
TZID:America/Toronto
BEGIN:DAYLIGHT
TZOFFSETFROM:-0500
TZOFFSETTO:-0400
TZNAME:EDT
DTSTART:20250309T070000
END:DAYLIGHT
BEGIN:STANDARD
TZOFFSETFROM:-0400
TZOFFSETTO:-0500
TZNAME:EST
DTSTART:20251102T060000
END:STANDARD
BEGIN:DAYLIGHT
TZOFFSETFROM:-0500
TZOFFSETTO:-0400
TZNAME:EDT
DTSTART:20260308T070000
END:DAYLIGHT
BEGIN:STANDARD
TZOFFSETFROM:-0400
TZOFFSETTO:-0500
TZNAME:EST
DTSTART:20261101T060000
END:STANDARD
BEGIN:DAYLIGHT
TZOFFSETFROM:-0500
TZOFFSETTO:-0400
TZNAME:EDT
DTSTART:20270314T070000
END:DAYLIGHT
BEGIN:STANDARD
TZOFFSETFROM:-0400
TZOFFSETTO:-0500
TZNAME:EST
DTSTART:20271107T060000
END:STANDARD
END:VTIMEZONE
BEGIN:VEVENT
DTSTART;TZID=America/Toronto:20260301T160000
DTEND;TZID=America/Toronto:20260301T170000
DTSTAMP:20260421T091940
CREATED:20260125T181634Z
LAST-MODIFIED:20260221T200950Z
UID:10008224-1772380800-1772384400@theredeemer.ca
SUMMARY:Be Still
DESCRIPTION:The church’s doors are open. The candles lit. The busy-ness of the city left behind as you enter the worship space. Taizé chant at 4PM. More candles to light. Prayer. Stillness. In times such as this\, there is space for you to…Be Still. \nJoin us for a new expression of Taizé. \nCome to me\, all you that are weary and are carrying heavy burdens\, and I will give you rest. \nJoin in through our livestream on YouTube. \nhttps://www.youtube.com/live/lAvWjTPK6zA?si=JQZ_iQl_91SBrnf7
URL:https://theredeemer.ca/event/be-still-43/
LOCATION:The Redeemer (main level)\, 162 Bloor Street West\, Toronto\, ON\, Ontario\, M5S 1M4\, Canada
CATEGORIES:Evening Services,Featured,Music,Services,Taizé
ATTACH;FMTTYPE=image/jpeg:https://theredeemer.ca/wp-content/uploads/2025/05/Be-Still_Website_Summer_.jpg
GEO:43.6691377;-79.3940147
X-APPLE-STRUCTURED-LOCATION;VALUE=URI;X-ADDRESS=The Redeemer (main level) 162 Bloor Street West Toronto ON Ontario M5S 1M4 Canada;X-APPLE-RADIUS=500;X-TITLE=162 Bloor Street West:geo:-79.3940147,43.6691377
END:VEVENT
BEGIN:VEVENT
DTSTART;TZID=America/Toronto:20260322T160000
DTEND;TZID=America/Toronto:20260322T170000
DTSTAMP:20260421T091940
CREATED:20260125T181919Z
LAST-MODIFIED:20260221T201553Z
UID:10008225-1774195200-1774198800@theredeemer.ca
SUMMARY:Be Still
DESCRIPTION:The church’s doors are open. The candles lit. The busy-ness of the city left behind as you enter the worship space. Taizé chant at 4PM. More candles to light. Prayer. Stillness. In times such as this\, there is space for you to…Be Still. \nJoin us for a new expression of Taizé. \nCome to me\, all you that are weary and are carrying heavy burdens\, and I will give you rest. \nJoin in through our livestream on YouTube.
URL:https://theredeemer.ca/event/be-still-44/
LOCATION:The Redeemer (main level)\, 162 Bloor Street West\, Toronto\, ON\, Ontario\, M5S 1M4\, Canada
CATEGORIES:Evening Services,Featured,Music,Services,Taizé
ATTACH;FMTTYPE=image/jpeg:https://theredeemer.ca/wp-content/uploads/2025/05/Be-Still_Website_Summer_.jpg
GEO:43.6691377;-79.3940147
X-APPLE-STRUCTURED-LOCATION;VALUE=URI;X-ADDRESS=The Redeemer (main level) 162 Bloor Street West Toronto ON Ontario M5S 1M4 Canada;X-APPLE-RADIUS=500;X-TITLE=162 Bloor Street West:geo:-79.3940147,43.6691377
END:VEVENT
BEGIN:VEVENT
DTSTART;TZID=America/Toronto:20260330T180000
DTEND;TZID=America/Toronto:20260330T190000
DTSTAMP:20260421T091940
CREATED:20260221T205531Z
LAST-MODIFIED:20260326T191021Z
UID:10008256-1774893600-1774897200@theredeemer.ca
SUMMARY:Taizé Eucharist in Holy Week
DESCRIPTION:On this Monday evening in Holy Week\, we gather for a candlelit Taizé Eucharist. The music and prayers from the Taizé monastic community in France give shape to this service where music\, readings\, silence\, and prayer are woven throughout. In addition\, we will celebrate the Eucharist with bread and wine blessed and shared. The service will also be available through our YouTube channel. \nJoin through YouTube:
URL:https://theredeemer.ca/event/taize-eucharist-in-holy-week-5/
LOCATION:The Redeemer (main level)\, 162 Bloor Street West\, Toronto\, ON\, Ontario\, M5S 1M4\, Canada
CATEGORIES:Evening Services,Featured,Holy Week,Music,Services,Taizé
ATTACH;FMTTYPE=image/jpeg:https://theredeemer.ca/wp-content/uploads/2025/03/Taize-Eucharist-Holy-Week.jpg
GEO:43.6691377;-79.3940147
X-APPLE-STRUCTURED-LOCATION;VALUE=URI;X-ADDRESS=The Redeemer (main level) 162 Bloor Street West Toronto ON Ontario M5S 1M4 Canada;X-APPLE-RADIUS=500;X-TITLE=162 Bloor Street West:geo:-79.3940147,43.6691377
END:VEVENT
BEGIN:VEVENT
DTSTART;TZID=America/Toronto:20260331T180000
DTEND;TZID=America/Toronto:20260331T190000
DTSTAMP:20260421T091940
CREATED:20260221T205606Z
LAST-MODIFIED:20260326T191711Z
UID:10008257-1774980000-1774983600@theredeemer.ca
SUMMARY:Taizé Eucharist in Holy Week
DESCRIPTION:On this Tuesday evening in Holy Week\, we gather for a candlelit Taizé Eucharist. The music and prayers from the Taizé monastic community in France give shape to this service where music\, readings\, silence\, and prayer are woven throughout. In addition\, we will celebrate the Eucharist with bread and wine blessed and shared. The service will also be available through our YouTube channel. \nJoin in through YouTube:
URL:https://theredeemer.ca/event/taize-eucharist-in-holy-week-6/
LOCATION:The Redeemer (main level)\, 162 Bloor Street West\, Toronto\, ON\, Ontario\, M5S 1M4\, Canada
CATEGORIES:Evening Services,Featured,Holy Week,Music,Services,Taizé
ATTACH;FMTTYPE=image/jpeg:https://theredeemer.ca/wp-content/uploads/2025/03/Taize-Eucharist-Holy-Week.jpg
GEO:43.6691377;-79.3940147
X-APPLE-STRUCTURED-LOCATION;VALUE=URI;X-ADDRESS=The Redeemer (main level) 162 Bloor Street West Toronto ON Ontario M5S 1M4 Canada;X-APPLE-RADIUS=500;X-TITLE=162 Bloor Street West:geo:-79.3940147,43.6691377
END:VEVENT
END:VCALENDAR