BEGIN:VCALENDAR
VERSION:2.0
PRODID:-//The Redeemer - ECPv6.15.17.1//NONSGML v1.0//EN
CALSCALE:GREGORIAN
METHOD:PUBLISH
X-WR-CALNAME:The Redeemer
X-ORIGINAL-URL:https://theredeemer.ca
X-WR-CALDESC:Events for The Redeemer
REFRESH-INTERVAL;VALUE=DURATION:PT1H
X-Robots-Tag:noindex
X-PUBLISHED-TTL:PT1H
BEGIN:VTIMEZONE
TZID:America/Toronto
BEGIN:DAYLIGHT
TZOFFSETFROM:-0500
TZOFFSETTO:-0400
TZNAME:EDT
DTSTART:20250309T070000
END:DAYLIGHT
BEGIN:STANDARD
TZOFFSETFROM:-0400
TZOFFSETTO:-0500
TZNAME:EST
DTSTART:20251102T060000
END:STANDARD
BEGIN:DAYLIGHT
TZOFFSETFROM:-0500
TZOFFSETTO:-0400
TZNAME:EDT
DTSTART:20260308T070000
END:DAYLIGHT
BEGIN:STANDARD
TZOFFSETFROM:-0400
TZOFFSETTO:-0500
TZNAME:EST
DTSTART:20261101T060000
END:STANDARD
BEGIN:DAYLIGHT
TZOFFSETFROM:-0500
TZOFFSETTO:-0400
TZNAME:EDT
DTSTART:20270314T070000
END:DAYLIGHT
BEGIN:STANDARD
TZOFFSETFROM:-0400
TZOFFSETTO:-0500
TZNAME:EST
DTSTART:20271107T060000
END:STANDARD
END:VTIMEZONE
BEGIN:VEVENT
DTSTART;TZID=America/Toronto:20260111T093000
DTEND;TZID=America/Toronto:20260111T103000
DTSTAMP:20260419T124518
CREATED:20260103T193451Z
LAST-MODIFIED:20260115T195644Z
UID:10008207-1768123800-1768127400@theredeemer.ca
SUMMARY:Sunday Explorations
DESCRIPTION:Our 9:30 AM Sunday programs are back during the Epiphany season! Please join us in the Board Room for these 45-minute sessions. They’re a great chance to connect with others in a small-group setting. With coffee.\n\n\n\nAwe and the Beauty of the World\n\nIn the season of Epiphany\, we’re invited to contemplate the ways that experiences of awe and astonishment break into our lives. This morning our Associate Priest Liska Stefko will lead us in a conversation about the times and places where that happens. Liska will use as a starting point Patrick Bringley’s 2023 memoir\, All The Beauty of the World.
URL:https://theredeemer.ca/event/sunday-explorations-40/
LOCATION:The Redeemer (lower level)\, 162 Bloor St W\, Toronto\, Ontario\, M5S1M4\, Canada
CATEGORIES:Featured,Redeemer Explorers
ATTACH;FMTTYPE=image/jpeg:https://theredeemer.ca/wp-content/uploads/2026/01/Sunday-Explorations_Winter2026_Website-940x788-1.jpg
GEO:43.6691377;-79.3940147
X-APPLE-STRUCTURED-LOCATION;VALUE=URI;X-ADDRESS=The Redeemer (lower level) 162 Bloor St W Toronto Ontario M5S1M4 Canada;X-APPLE-RADIUS=500;X-TITLE=162 Bloor St W:geo:-79.3940147,43.6691377
END:VEVENT
BEGIN:VEVENT
DTSTART;TZID=America/Toronto:20260118T093000
DTEND;TZID=America/Toronto:20260118T103000
DTSTAMP:20260419T124518
CREATED:20260103T193533Z
LAST-MODIFIED:20260103T193533Z
UID:10008208-1768728600-1768732200@theredeemer.ca
SUMMARY:Sunday Explorations
DESCRIPTION:Our 9:30 AM Sunday programs are back during the Epiphany season! Please join us in the Board Room for these 45-minute sessions. They’re a great chance to connect with others in a small-group setting. With coffee.\n\n\n\nJanuary 18: Stay tuned for details.
URL:https://theredeemer.ca/event/sunday-explorations-41/
LOCATION:The Redeemer (lower level)\, 162 Bloor St W\, Toronto\, Ontario\, M5S1M4\, Canada
CATEGORIES:Featured,Redeemer Explorers
ATTACH;FMTTYPE=image/jpeg:https://theredeemer.ca/wp-content/uploads/2026/01/Sunday-Explorations_Winter2026_Website-940x788-1.jpg
GEO:43.6691377;-79.3940147
X-APPLE-STRUCTURED-LOCATION;VALUE=URI;X-ADDRESS=The Redeemer (lower level) 162 Bloor St W Toronto Ontario M5S1M4 Canada;X-APPLE-RADIUS=500;X-TITLE=162 Bloor St W:geo:-79.3940147,43.6691377
END:VEVENT
BEGIN:VEVENT
DTSTART;TZID=America/Toronto:20260125T120000
DTEND;TZID=America/Toronto:20260125T140000
DTSTAMP:20260419T124518
CREATED:20260103T193318Z
LAST-MODIFIED:20260122T215532Z
UID:10008206-1769342400-1769349600@theredeemer.ca
SUMMARY:Face to Face With the People of Palestine
DESCRIPTION:Face to Face with the People of Palestine\n\nThis past December\, a delegation from the Diocese of Toronto went to Jerusalem and travelled through Israel and Palestine. They drew as close as they could to local life\, visiting holy sites and remote villages\, meeting local people and listening to their stories.\n\n\n\nOn January 25\, the Rev’d Dr Chris Brittain\, a member of the delegation\, will preach at the morning services. Following the 10:30 AM service\, we will gather over lunch to hear from four members of the delegation about their experiences and encounters. The panel will be moderated by Jon Allen\, former Canadian Ambassador to the State of Israel\, and director of the Rozana Project.\n\n\n\nThis is a precious opportunity to deepen our understanding of Palestinian culture\, and of everyday life under occupation\, and to learn from “shoes on the ground” examples of nonviolent resistance and reconciliation.\n\n\n\nRegistration for lunch is now closed\, but all are invited to attend the panel discussion. Please take a moment to register so that we can ensure seating for all.\n\n\n\nThe event will be live-streamed on YouTube\, with hybrid capacity during the discussion period.\n\n\n\nRegister
URL:https://theredeemer.ca/event/face-to-face-with-the-people-of-palestine/
LOCATION:The Redeemer (main level)\, 162 Bloor Street West\, Toronto\, ON\, Ontario\, M5S 1M4\, Canada
CATEGORIES:Featured,Redeemer Explorers
ATTACH;FMTTYPE=image/jpeg:https://theredeemer.ca/wp-content/uploads/2026/01/Face-to-Face_Jan2026-940x788-1.jpg
GEO:43.6691377;-79.3940147
X-APPLE-STRUCTURED-LOCATION;VALUE=URI;X-ADDRESS=The Redeemer (main level) 162 Bloor Street West Toronto ON Ontario M5S 1M4 Canada;X-APPLE-RADIUS=500;X-TITLE=162 Bloor Street West:geo:-79.3940147,43.6691377
END:VEVENT
END:VCALENDAR