BEGIN:VCALENDAR
VERSION:2.0
PRODID:-//The Redeemer - ECPv6.15.17.1//NONSGML v1.0//EN
CALSCALE:GREGORIAN
METHOD:PUBLISH
X-ORIGINAL-URL:https://theredeemer.ca
X-WR-CALDESC:Events for The Redeemer
REFRESH-INTERVAL;VALUE=DURATION:PT1H
X-Robots-Tag:noindex
X-PUBLISHED-TTL:PT1H
BEGIN:VTIMEZONE
TZID:America/Toronto
BEGIN:DAYLIGHT
TZOFFSETFROM:-0500
TZOFFSETTO:-0400
TZNAME:EDT
DTSTART:20250309T070000
END:DAYLIGHT
BEGIN:STANDARD
TZOFFSETFROM:-0400
TZOFFSETTO:-0500
TZNAME:EST
DTSTART:20251102T060000
END:STANDARD
BEGIN:DAYLIGHT
TZOFFSETFROM:-0500
TZOFFSETTO:-0400
TZNAME:EDT
DTSTART:20260308T070000
END:DAYLIGHT
BEGIN:STANDARD
TZOFFSETFROM:-0400
TZOFFSETTO:-0500
TZNAME:EST
DTSTART:20261101T060000
END:STANDARD
BEGIN:DAYLIGHT
TZOFFSETFROM:-0500
TZOFFSETTO:-0400
TZNAME:EDT
DTSTART:20270314T070000
END:DAYLIGHT
BEGIN:STANDARD
TZOFFSETFROM:-0400
TZOFFSETTO:-0500
TZNAME:EST
DTSTART:20271107T060000
END:STANDARD
END:VTIMEZONE
BEGIN:VEVENT
DTSTART;TZID=America/Toronto:20260426T093000
DTEND;TZID=America/Toronto:20260426T103000
DTSTAMP:20260421T173523
CREATED:20260406T151640Z
LAST-MODIFIED:20260412T211155Z
UID:10008307-1777195800-1777199400@theredeemer.ca
SUMMARY:Sunday Explorations
DESCRIPTION:Our 9:30 AM Sunday programs are back during the Eastertide season! Please join us in the Board Room for these 45-minute sessions. They’re a great chance to connect with others in a small-group setting. With coffee.\n\n\n\nSunday\, April 26 – Thinking About Holiness\nIn this session\, Dr Justin Stratis\, the Professor of Systematic Theology at Wycliffe College\, will unpack a bit about what makes divine holiness unique\, and the ways in which creation\, including humanity\, benefits from this holiness in surprisingly redemptive ways.
URL:https://theredeemer.ca/event/sunday-explorations-46/
LOCATION:The Redeemer (lower level)\, 162 Bloor St W\, Toronto\, Ontario\, M5S1M4\, Canada
CATEGORIES:Featured,Redeemer Explorers
ATTACH;FMTTYPE=image/jpeg:https://theredeemer.ca/wp-content/uploads/2026/03/Sunday-Explorations_Spring2026_Website-940x788-1.jpg
GEO:43.6691377;-79.3940147
X-APPLE-STRUCTURED-LOCATION;VALUE=URI;X-ADDRESS=The Redeemer (lower level) 162 Bloor St W Toronto Ontario M5S1M4 Canada;X-APPLE-RADIUS=500;X-TITLE=162 Bloor St W:geo:-79.3940147,43.6691377
END:VEVENT
END:VCALENDAR