BEGIN:VCALENDAR
VERSION:2.0
PRODID:-//The Redeemer - ECPv6.15.17.1//NONSGML v1.0//EN
CALSCALE:GREGORIAN
METHOD:PUBLISH
X-WR-CALNAME:The Redeemer
X-ORIGINAL-URL:https://theredeemer.ca
X-WR-CALDESC:Events for The Redeemer
REFRESH-INTERVAL;VALUE=DURATION:PT1H
X-Robots-Tag:noindex
X-PUBLISHED-TTL:PT1H
BEGIN:VTIMEZONE
TZID:America/Toronto
BEGIN:DAYLIGHT
TZOFFSETFROM:-0500
TZOFFSETTO:-0400
TZNAME:EDT
DTSTART:20230312T070000
END:DAYLIGHT
BEGIN:STANDARD
TZOFFSETFROM:-0400
TZOFFSETTO:-0500
TZNAME:EST
DTSTART:20231105T060000
END:STANDARD
BEGIN:DAYLIGHT
TZOFFSETFROM:-0500
TZOFFSETTO:-0400
TZNAME:EDT
DTSTART:20240310T070000
END:DAYLIGHT
BEGIN:STANDARD
TZOFFSETFROM:-0400
TZOFFSETTO:-0500
TZNAME:EST
DTSTART:20241103T060000
END:STANDARD
BEGIN:DAYLIGHT
TZOFFSETFROM:-0500
TZOFFSETTO:-0400
TZNAME:EDT
DTSTART:20250309T070000
END:DAYLIGHT
BEGIN:STANDARD
TZOFFSETFROM:-0400
TZOFFSETTO:-0500
TZNAME:EST
DTSTART:20251102T060000
END:STANDARD
END:VTIMEZONE
BEGIN:VEVENT
DTSTART;TZID=America/Toronto:20240804T200000
DTEND;TZID=America/Toronto:20240804T203000
DTSTAMP:20260421T160602
CREATED:20240704T150311Z
LAST-MODIFIED:20240704T150311Z
UID:10006186-1722801600-1722803400@theredeemer.ca
SUMMARY:Compline - Online
DESCRIPTION:The community gathers for a short service of Compline – the church’s tradition of bedtime prayer – through Zoom on Sunday nights at 8 PM and send each other off about 20-minutes later. Please join in as often as you are able. \nThe link and phone numbers for the service will be sent out by eNews on Friday. \nOur ability to gather for worship\, fellowship and formation and to support the many outreach ministries that are integral to our call to be the hands and feet of Christ in the world is possible thanks to the generous donations of parishioners and friends of the community. If you would like to share in this on-going work\, your gifts are gratefully received. Thank you for your generosity. \n 
URL:https://theredeemer.ca/event/compline-online-207/
LOCATION:Online
CATEGORIES:Evening Services,Featured,Online,Services
ATTACH;FMTTYPE=image/jpeg:https://theredeemer.ca/wp-content/uploads/2020/06/Compline.jpg
END:VEVENT
BEGIN:VEVENT
DTSTART;TZID=America/Toronto:20240811T190000
DTEND;TZID=America/Toronto:20240811T200000
DTSTAMP:20260421T160602
CREATED:20240704T151229Z
LAST-MODIFIED:20240704T151229Z
UID:10006192-1723402800-1723406400@theredeemer.ca
SUMMARY:Be Still
DESCRIPTION:The church’s doors are open. The candles lit. The busy-ness of the city left behind as you enter the worship space. Taizé chant at 7PM. More candles to light. Prayer. Stillness. Space for you to…Be Still. \nJoin us for a new expression of Taizé. \nCome to me\, all you that are weary and are carrying heavy burdens\, and I will give you rest. \n  \n  \n  \n  \n 
URL:https://theredeemer.ca/event/be-still-26/
LOCATION:The Redeemer (main level)\, 162 Bloor Street West\, Toronto\, ON\, Ontario\, M5S 1M4\, Canada
CATEGORIES:Evening Services,Featured,Music,Services,Taizé
ATTACH;FMTTYPE=image/jpeg:https://theredeemer.ca/wp-content/uploads/2022/05/Be-Still_2022.jpg
GEO:43.6691377;-79.3940147
X-APPLE-STRUCTURED-LOCATION;VALUE=URI;X-ADDRESS=The Redeemer (main level) 162 Bloor Street West Toronto ON Ontario M5S 1M4 Canada;X-APPLE-RADIUS=500;X-TITLE=162 Bloor Street West:geo:-79.3940147,43.6691377
END:VEVENT
BEGIN:VEVENT
DTSTART;TZID=America/Toronto:20240811T200000
DTEND;TZID=America/Toronto:20240811T203000
DTSTAMP:20260421T160602
CREATED:20240704T150334Z
LAST-MODIFIED:20240704T150334Z
UID:10006188-1723406400-1723408200@theredeemer.ca
SUMMARY:Compline - Online
DESCRIPTION:The community gathers for a short service of Compline – the church’s tradition of bedtime prayer – through Zoom on Sunday nights at 8 PM and send each other off about 20-minutes later. Please join in as often as you are able. \nThe link and phone numbers for the service will be sent out by eNews on Friday. \nOur ability to gather for worship\, fellowship and formation and to support the many outreach ministries that are integral to our call to be the hands and feet of Christ in the world is possible thanks to the generous donations of parishioners and friends of the community. If you would like to share in this on-going work\, your gifts are gratefully received. Thank you for your generosity. \n 
URL:https://theredeemer.ca/event/compline-online-208/
LOCATION:Online
CATEGORIES:Evening Services,Featured,Online,Services
ATTACH;FMTTYPE=image/jpeg:https://theredeemer.ca/wp-content/uploads/2020/06/Compline.jpg
END:VEVENT
BEGIN:VEVENT
DTSTART;TZID=America/Toronto:20240818T190000
DTEND;TZID=America/Toronto:20240818T200000
DTSTAMP:20260421T160602
CREATED:20240704T151250Z
LAST-MODIFIED:20240704T151250Z
UID:10006194-1724007600-1724011200@theredeemer.ca
SUMMARY:Be Still
DESCRIPTION:The church’s doors are open. The candles lit. The busy-ness of the city left behind as you enter the worship space. Taizé chant at 7PM. More candles to light. Prayer. Stillness. Space for you to…Be Still. \nJoin us for a new expression of Taizé. \nCome to me\, all you that are weary and are carrying heavy burdens\, and I will give you rest. \n  \n  \n  \n  \n 
URL:https://theredeemer.ca/event/be-still-27/
LOCATION:The Redeemer (main level)\, 162 Bloor Street West\, Toronto\, ON\, Ontario\, M5S 1M4\, Canada
CATEGORIES:Evening Services,Featured,Music,Services,Taizé
ATTACH;FMTTYPE=image/jpeg:https://theredeemer.ca/wp-content/uploads/2022/05/Be-Still_2022.jpg
GEO:43.6691377;-79.3940147
X-APPLE-STRUCTURED-LOCATION;VALUE=URI;X-ADDRESS=The Redeemer (main level) 162 Bloor Street West Toronto ON Ontario M5S 1M4 Canada;X-APPLE-RADIUS=500;X-TITLE=162 Bloor Street West:geo:-79.3940147,43.6691377
END:VEVENT
BEGIN:VEVENT
DTSTART;TZID=America/Toronto:20240818T200000
DTEND;TZID=America/Toronto:20240818T203000
DTSTAMP:20260421T160602
CREATED:20240704T150743Z
LAST-MODIFIED:20240704T150743Z
UID:10006189-1724011200-1724013000@theredeemer.ca
SUMMARY:Compline - Online
DESCRIPTION:The community gathers for a short service of Compline – the church’s tradition of bedtime prayer – through Zoom on Sunday nights at 8 PM and send each other off about 20-minutes later. Please join in as often as you are able. \nThe link and phone numbers for the service will be sent out by eNews on Friday. \nOur ability to gather for worship\, fellowship and formation and to support the many outreach ministries that are integral to our call to be the hands and feet of Christ in the world is possible thanks to the generous donations of parishioners and friends of the community. If you would like to share in this on-going work\, your gifts are gratefully received. Thank you for your generosity. \n 
URL:https://theredeemer.ca/event/compline-online-209/
LOCATION:Online
CATEGORIES:Evening Services,Featured,Online,Services
ATTACH;FMTTYPE=image/jpeg:https://theredeemer.ca/wp-content/uploads/2020/06/Compline.jpg
END:VEVENT
BEGIN:VEVENT
DTSTART;TZID=America/Toronto:20240825T190000
DTEND;TZID=America/Toronto:20240825T200000
DTSTAMP:20260421T160602
CREATED:20240704T151316Z
LAST-MODIFIED:20240704T151316Z
UID:10006196-1724612400-1724616000@theredeemer.ca
SUMMARY:Be Still
DESCRIPTION:The church’s doors are open. The candles lit. The busy-ness of the city left behind as you enter the worship space. Taizé chant at 7PM. More candles to light. Prayer. Stillness. Space for you to…Be Still. \nJoin us for a new expression of Taizé. \nCome to me\, all you that are weary and are carrying heavy burdens\, and I will give you rest. \n  \n  \n  \n  \n 
URL:https://theredeemer.ca/event/be-still-28/
LOCATION:The Redeemer (main level)\, 162 Bloor Street West\, Toronto\, ON\, Ontario\, M5S 1M4\, Canada
CATEGORIES:Evening Services,Featured,Music,Services,Taizé
ATTACH;FMTTYPE=image/jpeg:https://theredeemer.ca/wp-content/uploads/2022/05/Be-Still_2022.jpg
GEO:43.6691377;-79.3940147
X-APPLE-STRUCTURED-LOCATION;VALUE=URI;X-ADDRESS=The Redeemer (main level) 162 Bloor Street West Toronto ON Ontario M5S 1M4 Canada;X-APPLE-RADIUS=500;X-TITLE=162 Bloor Street West:geo:-79.3940147,43.6691377
END:VEVENT
BEGIN:VEVENT
DTSTART;TZID=America/Toronto:20240825T200000
DTEND;TZID=America/Toronto:20240825T203000
DTSTAMP:20260421T160602
CREATED:20240704T151127Z
LAST-MODIFIED:20240704T151127Z
UID:10006190-1724616000-1724617800@theredeemer.ca
SUMMARY:Compline - Online
DESCRIPTION:The community gathers for a short service of Compline – the church’s tradition of bedtime prayer – through Zoom on Sunday nights at 8 PM and send each other off about 20-minutes later. Please join in as often as you are able. \nThe link and phone numbers for the service will be sent out by eNews on Friday. \nOur ability to gather for worship\, fellowship and formation and to support the many outreach ministries that are integral to our call to be the hands and feet of Christ in the world is possible thanks to the generous donations of parishioners and friends of the community. If you would like to share in this on-going work\, your gifts are gratefully received. Thank you for your generosity. \n 
URL:https://theredeemer.ca/event/compline-online-210/
LOCATION:Online
CATEGORIES:Evening Services,Featured,Online,Services
ATTACH;FMTTYPE=image/jpeg:https://theredeemer.ca/wp-content/uploads/2020/06/Compline.jpg
END:VEVENT
END:VCALENDAR