BEGIN:VCALENDAR
VERSION:2.0
PRODID:-//The Redeemer - ECPv6.15.17.1//NONSGML v1.0//EN
CALSCALE:GREGORIAN
METHOD:PUBLISH
X-WR-CALNAME:The Redeemer
X-ORIGINAL-URL:https://theredeemer.ca
X-WR-CALDESC:Events for The Redeemer
REFRESH-INTERVAL;VALUE=DURATION:PT1H
X-Robots-Tag:noindex
X-PUBLISHED-TTL:PT1H
BEGIN:VTIMEZONE
TZID:America/Toronto
BEGIN:DAYLIGHT
TZOFFSETFROM:-0500
TZOFFSETTO:-0400
TZNAME:EDT
DTSTART:20240310T070000
END:DAYLIGHT
BEGIN:STANDARD
TZOFFSETFROM:-0400
TZOFFSETTO:-0500
TZNAME:EST
DTSTART:20241103T060000
END:STANDARD
BEGIN:DAYLIGHT
TZOFFSETFROM:-0500
TZOFFSETTO:-0400
TZNAME:EDT
DTSTART:20250309T070000
END:DAYLIGHT
BEGIN:STANDARD
TZOFFSETFROM:-0400
TZOFFSETTO:-0500
TZNAME:EST
DTSTART:20251102T060000
END:STANDARD
BEGIN:DAYLIGHT
TZOFFSETFROM:-0500
TZOFFSETTO:-0400
TZNAME:EDT
DTSTART:20260308T070000
END:DAYLIGHT
BEGIN:STANDARD
TZOFFSETFROM:-0400
TZOFFSETTO:-0500
TZNAME:EST
DTSTART:20261101T060000
END:STANDARD
END:VTIMEZONE
BEGIN:VEVENT
DTSTART;TZID=America/Toronto:20250105T190000
DTEND;TZID=America/Toronto:20250105T200000
DTSTAMP:20260424T085735
CREATED:20241230T165231Z
LAST-MODIFIED:20250103T185458Z
UID:10007787-1736103600-1736107200@theredeemer.ca
SUMMARY:Be Still
DESCRIPTION:The church’s doors are open. The candles lit. The busy-ness of the city left behind as you enter the worship space. Taizé chant at 7PM. More candles to light. Prayer. Stillness. Space for you to…Be Still. \nJoin us for a new expression of Taizé. \n \nCome to me\, all you that are weary and are carrying heavy burdens\, and I will give you rest. \n  \n  \n  \n  \n 
URL:https://theredeemer.ca/event/be-still/
LOCATION:The Redeemer (main level)\, 162 Bloor Street West\, Toronto\, ON\, Ontario\, M5S 1M4\, Canada
CATEGORIES:Evening Services,Featured,Music,Services,Taizé
ATTACH;FMTTYPE=image/jpeg:https://theredeemer.ca/wp-content/uploads/2022/05/Be-Still_2022.jpg
GEO:43.6691377;-79.3940147
X-APPLE-STRUCTURED-LOCATION;VALUE=URI;X-ADDRESS=The Redeemer (main level) 162 Bloor Street West Toronto ON Ontario M5S 1M4 Canada;X-APPLE-RADIUS=500;X-TITLE=162 Bloor Street West:geo:-79.3940147,43.6691377
END:VEVENT
BEGIN:VEVENT
DTSTART;TZID=America/Toronto:20250105T200000
DTEND;TZID=America/Toronto:20250105T201500
DTSTAMP:20260424T085735
CREATED:20231106T174309Z
LAST-MODIFIED:20241205T165515Z
UID:10005844-1736107200-1736108100@theredeemer.ca
SUMMARY:Compline - Online
DESCRIPTION:The community gathers for a short service of Compline – the church’s tradition of bedtime prayer – through Zoom on Sunday nights at 8 PM and send each other off about 10 minutes later. Please join in as often as you are able. \nThe Zoom link for the service will be sent out in eNews on Friday. \nOur ability to gather for worship\, fellowship and formation and to support the many outreach ministries that are integral to our call to be the hands and feet of Christ in the world is possible thanks to the generous donations of parishioners and friends of the community. If you would like to share in this on-going work\, your gifts are gratefully received. Thank you for your generosity. \n 
URL:https://theredeemer.ca/event/compline-online-175/
LOCATION:Online
CATEGORIES:Evening Services,Featured,Online,Services
ATTACH;FMTTYPE=image/jpeg:https://theredeemer.ca/wp-content/uploads/2020/06/Compline.jpg
END:VEVENT
BEGIN:VEVENT
DTSTART;TZID=America/Toronto:20250112T200000
DTEND;TZID=America/Toronto:20250112T201500
DTSTAMP:20260424T085735
CREATED:20241205T165533Z
LAST-MODIFIED:20241205T165533Z
UID:10007771-1736712000-1736712900@theredeemer.ca
SUMMARY:Compline - Online
DESCRIPTION:The community gathers for a short service of Compline – the church’s tradition of bedtime prayer – through Zoom on Sunday nights at 8 PM and send each other off about 10 minutes later. Please join in as often as you are able. \nThe Zoom link for the service will be sent out in eNews on Friday. \nOur ability to gather for worship\, fellowship and formation and to support the many outreach ministries that are integral to our call to be the hands and feet of Christ in the world is possible thanks to the generous donations of parishioners and friends of the community. If you would like to share in this on-going work\, your gifts are gratefully received. Thank you for your generosity. \n 
URL:https://theredeemer.ca/event/compline-online/
LOCATION:Online
CATEGORIES:Evening Services,Featured,Online,Services
ATTACH;FMTTYPE=image/jpeg:https://theredeemer.ca/wp-content/uploads/2020/06/Compline.jpg
END:VEVENT
BEGIN:VEVENT
DTSTART;TZID=America/Toronto:20250119T190000
DTEND;TZID=America/Toronto:20250119T200000
DTSTAMP:20260424T085735
CREATED:20250104T214121Z
LAST-MODIFIED:20250117T143254Z
UID:10007788-1737313200-1737316800@theredeemer.ca
SUMMARY:Taizé Eucharist
DESCRIPTION:We gather for a candlelit Taizé Eucharist. The music and prayers from the Taizé monastic community in France give shape to this service where music\, readings\, silence\, and prayer are woven throughout. In addition\, we will celebrate the Eucharist with bread and wine blessed and shared. The service will also be available through our YouTube channel. \n \n  \n 
URL:https://theredeemer.ca/event/taize-eucharist-4/
LOCATION:The Redeemer (main level)\, 162 Bloor Street West\, Toronto\, ON\, Ontario\, M5S 1M4\, Canada
CATEGORIES:Evening Services,Featured,Music,Services,Taizé
ATTACH;FMTTYPE=image/jpeg:https://theredeemer.ca/wp-content/uploads/2024/04/Taize-Eucharist-Website.jpg
GEO:43.6691377;-79.3940147
X-APPLE-STRUCTURED-LOCATION;VALUE=URI;X-ADDRESS=The Redeemer (main level) 162 Bloor Street West Toronto ON Ontario M5S 1M4 Canada;X-APPLE-RADIUS=500;X-TITLE=162 Bloor Street West:geo:-79.3940147,43.6691377
END:VEVENT
BEGIN:VEVENT
DTSTART;TZID=America/Toronto:20250119T200000
DTEND;TZID=America/Toronto:20250119T201500
DTSTAMP:20260424T085735
CREATED:20241205T165551Z
LAST-MODIFIED:20241205T165551Z
UID:10007772-1737316800-1737317700@theredeemer.ca
SUMMARY:Compline - Online
DESCRIPTION:The community gathers for a short service of Compline – the church’s tradition of bedtime prayer – through Zoom on Sunday nights at 8 PM and send each other off about 10 minutes later. Please join in as often as you are able. \nThe Zoom link for the service will be sent out in eNews on Friday. \nOur ability to gather for worship\, fellowship and formation and to support the many outreach ministries that are integral to our call to be the hands and feet of Christ in the world is possible thanks to the generous donations of parishioners and friends of the community. If you would like to share in this on-going work\, your gifts are gratefully received. Thank you for your generosity. \n 
URL:https://theredeemer.ca/event/compline-online-2/
LOCATION:Online
CATEGORIES:Evening Services,Featured,Online,Services
ATTACH;FMTTYPE=image/jpeg:https://theredeemer.ca/wp-content/uploads/2020/06/Compline.jpg
END:VEVENT
BEGIN:VEVENT
DTSTART;TZID=America/Toronto:20250126T190000
DTEND;TZID=America/Toronto:20250126T200000
DTSTAMP:20260424T085735
CREATED:20250104T214236Z
LAST-MODIFIED:20250104T214236Z
UID:10007789-1737918000-1737921600@theredeemer.ca
SUMMARY:Rock Eucharist: featuring the music of Katy Perry
DESCRIPTION:The Redeemer Rock Eucharist explores the music of a popular artist or band woven through a casual service. A reflection on the songs’ themes and the readings\, prayer\, and the breaking of bread and sharing of wine in communion\, are part of this time together. This Rock Eucharist features the music of Katy Perry. This service will also be live-streamed through our YouTube channel. \n 
URL:https://theredeemer.ca/event/rock-eucharist-featuring-the-music-of-katy-perry/
LOCATION:The Redeemer (main level)\, 162 Bloor Street West\, Toronto\, ON\, Ontario\, M5S 1M4\, Canada
CATEGORIES:Evening Services,Featured,Music,Rock Eucharist,Services
ATTACH;FMTTYPE=image/jpeg:https://theredeemer.ca/wp-content/uploads/2024/08/Rock-Eucharist_General-Website_940-x-788-px.jpg
GEO:43.6691377;-79.3940147
X-APPLE-STRUCTURED-LOCATION;VALUE=URI;X-ADDRESS=The Redeemer (main level) 162 Bloor Street West Toronto ON Ontario M5S 1M4 Canada;X-APPLE-RADIUS=500;X-TITLE=162 Bloor Street West:geo:-79.3940147,43.6691377
END:VEVENT
BEGIN:VEVENT
DTSTART;TZID=America/Toronto:20250126T200000
DTEND;TZID=America/Toronto:20250126T201500
DTSTAMP:20260424T085735
CREATED:20241205T165609Z
LAST-MODIFIED:20241205T165609Z
UID:10007773-1737921600-1737922500@theredeemer.ca
SUMMARY:Compline - Online
DESCRIPTION:The community gathers for a short service of Compline – the church’s tradition of bedtime prayer – through Zoom on Sunday nights at 8 PM and send each other off about 10 minutes later. Please join in as often as you are able. \nThe Zoom link for the service will be sent out in eNews on Friday. \nOur ability to gather for worship\, fellowship and formation and to support the many outreach ministries that are integral to our call to be the hands and feet of Christ in the world is possible thanks to the generous donations of parishioners and friends of the community. If you would like to share in this on-going work\, your gifts are gratefully received. Thank you for your generosity. \n 
URL:https://theredeemer.ca/event/compline-online-3/
LOCATION:Online
CATEGORIES:Evening Services,Featured,Online,Services
ATTACH;FMTTYPE=image/jpeg:https://theredeemer.ca/wp-content/uploads/2020/06/Compline.jpg
END:VEVENT
END:VCALENDAR