BEGIN:VCALENDAR
VERSION:2.0
PRODID:-//The Redeemer - ECPv6.15.17.1//NONSGML v1.0//EN
CALSCALE:GREGORIAN
METHOD:PUBLISH
X-WR-CALNAME:The Redeemer
X-ORIGINAL-URL:https://theredeemer.ca
X-WR-CALDESC:Events for The Redeemer
REFRESH-INTERVAL;VALUE=DURATION:PT1H
X-Robots-Tag:noindex
X-PUBLISHED-TTL:PT1H
BEGIN:VTIMEZONE
TZID:America/Toronto
BEGIN:DAYLIGHT
TZOFFSETFROM:-0500
TZOFFSETTO:-0400
TZNAME:EDT
DTSTART:20240310T070000
END:DAYLIGHT
BEGIN:STANDARD
TZOFFSETFROM:-0400
TZOFFSETTO:-0500
TZNAME:EST
DTSTART:20241103T060000
END:STANDARD
BEGIN:DAYLIGHT
TZOFFSETFROM:-0500
TZOFFSETTO:-0400
TZNAME:EDT
DTSTART:20250309T070000
END:DAYLIGHT
BEGIN:STANDARD
TZOFFSETFROM:-0400
TZOFFSETTO:-0500
TZNAME:EST
DTSTART:20251102T060000
END:STANDARD
BEGIN:DAYLIGHT
TZOFFSETFROM:-0500
TZOFFSETTO:-0400
TZNAME:EDT
DTSTART:20260308T070000
END:DAYLIGHT
BEGIN:STANDARD
TZOFFSETFROM:-0400
TZOFFSETTO:-0500
TZNAME:EST
DTSTART:20261101T060000
END:STANDARD
END:VTIMEZONE
BEGIN:VEVENT
DTSTART;TZID=America/Toronto:20250504T190000
DTEND;TZID=America/Toronto:20250504T200000
DTSTAMP:20260421T085334
CREATED:20250318T000305Z
LAST-MODIFIED:20250318T000305Z
UID:10007913-1746385200-1746388800@theredeemer.ca
SUMMARY:No 7 PM service this week
DESCRIPTION:There won’t be a 7 PM service this week. We return on Sunday\, May 11 with Be Still \n  \n  \n  \n 
URL:https://theredeemer.ca/event/no-7-pm-service-this-week-11/
LOCATION:The Redeemer (main level)\, 162 Bloor Street West\, Toronto\, ON\, Ontario\, M5S 1M4\, Canada
CATEGORIES:Evening Services,Featured,Music,Online,Services
ATTACH;FMTTYPE=image/jpeg:https://theredeemer.ca/wp-content/uploads/2022/05/No-7PM-Service.jpg
GEO:43.6691377;-79.3940147
X-APPLE-STRUCTURED-LOCATION;VALUE=URI;X-ADDRESS=The Redeemer (main level) 162 Bloor Street West Toronto ON Ontario M5S 1M4 Canada;X-APPLE-RADIUS=500;X-TITLE=162 Bloor Street West:geo:-79.3940147,43.6691377
END:VEVENT
BEGIN:VEVENT
DTSTART;TZID=America/Toronto:20250504T200000
DTEND;TZID=America/Toronto:20250504T201500
DTSTAMP:20260421T085334
CREATED:20250317T232504Z
LAST-MODIFIED:20250317T232504Z
UID:10007889-1746388800-1746389700@theredeemer.ca
SUMMARY:Compline - Online
DESCRIPTION:The community gathers for a short service of Compline – the church’s tradition of bedtime prayer – through Zoom on Sunday nights at 8 PM and send each other off about 10 minutes later. Please join in as often as you are able. \nThe Zoom link for the service will be sent out in eNews on Friday. \nOur ability to gather for worship\, fellowship and formation and to support the many outreach ministries that are integral to our call to be the hands and feet of Christ in the world is possible thanks to the generous donations of parishioners and friends of the community. If you would like to share in this on-going work\, your gifts are gratefully received. Thank you for your generosity. \n 
URL:https://theredeemer.ca/event/compline-online-17/
LOCATION:Online
CATEGORIES:Evening Services,Featured,Online,Services
ATTACH;FMTTYPE=image/jpeg:https://theredeemer.ca/wp-content/uploads/2020/06/Compline.jpg
END:VEVENT
BEGIN:VEVENT
DTSTART;TZID=America/Toronto:20250511T190000
DTEND;TZID=America/Toronto:20250511T200000
DTSTAMP:20260421T085334
CREATED:20250318T000548Z
LAST-MODIFIED:20250429T000054Z
UID:10007914-1746990000-1746993600@theredeemer.ca
SUMMARY:Be Still
DESCRIPTION:The church’s doors are open. The candles lit. The busy-ness of the city left behind as you enter the worship space. Taizé chant at 7PM. More candles to light. Prayer. Stillness. In times such as this\, there is space for you to…Be Still. \nJoin us for a new expression of Taizé. \nCome to me\, all you that are weary and are carrying heavy burdens\, and I will give you rest. \n \n  \n  \n 
URL:https://theredeemer.ca/event/be-still-7/
LOCATION:The Redeemer (main level)\, 162 Bloor Street West\, Toronto\, ON\, Ontario\, M5S 1M4\, Canada
CATEGORIES:Evening Services,Featured,Music,Services,Taizé
ATTACH;FMTTYPE=image/jpeg:https://theredeemer.ca/wp-content/uploads/2025/01/Be-Still_Website.jpg
GEO:43.6691377;-79.3940147
X-APPLE-STRUCTURED-LOCATION;VALUE=URI;X-ADDRESS=The Redeemer (main level) 162 Bloor Street West Toronto ON Ontario M5S 1M4 Canada;X-APPLE-RADIUS=500;X-TITLE=162 Bloor Street West:geo:-79.3940147,43.6691377
END:VEVENT
BEGIN:VEVENT
DTSTART;TZID=America/Toronto:20250511T200000
DTEND;TZID=America/Toronto:20250511T201500
DTSTAMP:20260421T085334
CREATED:20250317T232526Z
LAST-MODIFIED:20250317T232526Z
UID:10007890-1746993600-1746994500@theredeemer.ca
SUMMARY:Compline - Online
DESCRIPTION:The community gathers for a short service of Compline – the church’s tradition of bedtime prayer – through Zoom on Sunday nights at 8 PM and send each other off about 10 minutes later. Please join in as often as you are able. \nThe Zoom link for the service will be sent out in eNews on Friday. \nOur ability to gather for worship\, fellowship and formation and to support the many outreach ministries that are integral to our call to be the hands and feet of Christ in the world is possible thanks to the generous donations of parishioners and friends of the community. If you would like to share in this on-going work\, your gifts are gratefully received. Thank you for your generosity. \n 
URL:https://theredeemer.ca/event/compline-online-18/
LOCATION:Online
CATEGORIES:Evening Services,Featured,Online,Services
ATTACH;FMTTYPE=image/jpeg:https://theredeemer.ca/wp-content/uploads/2020/06/Compline.jpg
END:VEVENT
BEGIN:VEVENT
DTSTART;TZID=America/Toronto:20250518T190000
DTEND;TZID=America/Toronto:20250518T200000
DTSTAMP:20260421T085334
CREATED:20250318T000834Z
LAST-MODIFIED:20250516T191504Z
UID:10007915-1747594800-1747598400@theredeemer.ca
SUMMARY:Taizé Eucharist
DESCRIPTION:We gather for a candlelit Taizé Eucharist. The music and prayers from the Taizé monastic community in France give shape to this service where music\, readings\, silence\, and prayer are woven throughout. In addition\, we will celebrate the Eucharist with bread and wine blessed and shared. The service will also be available through our YouTube channel. \nThe Bulletin for Taizé Eucharist \n \n 
URL:https://theredeemer.ca/event/taize-eucharist-7/
LOCATION:The Redeemer (main level)\, 162 Bloor Street West\, Toronto\, ON\, Ontario\, M5S 1M4\, Canada
CATEGORIES:Evening Services,Featured,Music,Online,Services,Taizé
ATTACH;FMTTYPE=image/jpeg:https://theredeemer.ca/wp-content/uploads/2024/04/Taize-Eucharist-Website.jpg
GEO:43.6691377;-79.3940147
X-APPLE-STRUCTURED-LOCATION;VALUE=URI;X-ADDRESS=The Redeemer (main level) 162 Bloor Street West Toronto ON Ontario M5S 1M4 Canada;X-APPLE-RADIUS=500;X-TITLE=162 Bloor Street West:geo:-79.3940147,43.6691377
END:VEVENT
BEGIN:VEVENT
DTSTART;TZID=America/Toronto:20250518T200000
DTEND;TZID=America/Toronto:20250518T201500
DTSTAMP:20260421T085334
CREATED:20250317T232544Z
LAST-MODIFIED:20250317T232544Z
UID:10007891-1747598400-1747599300@theredeemer.ca
SUMMARY:Compline - Online
DESCRIPTION:The community gathers for a short service of Compline – the church’s tradition of bedtime prayer – through Zoom on Sunday nights at 8 PM and send each other off about 10 minutes later. Please join in as often as you are able. \nThe Zoom link for the service will be sent out in eNews on Friday. \nOur ability to gather for worship\, fellowship and formation and to support the many outreach ministries that are integral to our call to be the hands and feet of Christ in the world is possible thanks to the generous donations of parishioners and friends of the community. If you would like to share in this on-going work\, your gifts are gratefully received. Thank you for your generosity. \n 
URL:https://theredeemer.ca/event/compline-online-19/
LOCATION:Online
CATEGORIES:Evening Services,Featured,Online,Services
ATTACH;FMTTYPE=image/jpeg:https://theredeemer.ca/wp-content/uploads/2020/06/Compline.jpg
END:VEVENT
BEGIN:VEVENT
DTSTART;TZID=America/Toronto:20250525T190000
DTEND;TZID=America/Toronto:20250525T200000
DTSTAMP:20260421T085334
CREATED:20250318T000944Z
LAST-MODIFIED:20250429T000657Z
UID:10007916-1748199600-1748203200@theredeemer.ca
SUMMARY:Rock Eucharist featuring the music of The Grateful Dead
DESCRIPTION:The Redeemer Rock Eucharist explores the music of a popular artist or band woven through a casual service. The service features the music of The Grateful Dead. A reflection on the songs’ themes and the readings\, prayer\, and the breaking of bread and sharing of wine in communion\, are part of this time together. This service will also be live-streamed through our YouTube channel.
URL:https://theredeemer.ca/event/rock-eucharist/
LOCATION:The Redeemer (main level)\, 162 Bloor Street West\, Toronto\, ON\, Ontario\, M5S 1M4\, Canada
CATEGORIES:Evening Services,Featured,Music,Rock Eucharist,Services
ATTACH;FMTTYPE=image/jpeg:https://theredeemer.ca/wp-content/uploads/2024/08/Rock-Eucharist_General-Website_940-x-788-px.jpg
GEO:43.6691377;-79.3940147
X-APPLE-STRUCTURED-LOCATION;VALUE=URI;X-ADDRESS=The Redeemer (main level) 162 Bloor Street West Toronto ON Ontario M5S 1M4 Canada;X-APPLE-RADIUS=500;X-TITLE=162 Bloor Street West:geo:-79.3940147,43.6691377
END:VEVENT
BEGIN:VEVENT
DTSTART;TZID=America/Toronto:20250525T200000
DTEND;TZID=America/Toronto:20250525T201500
DTSTAMP:20260421T085334
CREATED:20250317T232605Z
LAST-MODIFIED:20250317T232605Z
UID:10007892-1748203200-1748204100@theredeemer.ca
SUMMARY:Compline - Online
DESCRIPTION:The community gathers for a short service of Compline – the church’s tradition of bedtime prayer – through Zoom on Sunday nights at 8 PM and send each other off about 10 minutes later. Please join in as often as you are able. \nThe Zoom link for the service will be sent out in eNews on Friday. \nOur ability to gather for worship\, fellowship and formation and to support the many outreach ministries that are integral to our call to be the hands and feet of Christ in the world is possible thanks to the generous donations of parishioners and friends of the community. If you would like to share in this on-going work\, your gifts are gratefully received. Thank you for your generosity. \n 
URL:https://theredeemer.ca/event/compline-online-20/
LOCATION:Online
CATEGORIES:Evening Services,Featured,Online,Services
ATTACH;FMTTYPE=image/jpeg:https://theredeemer.ca/wp-content/uploads/2020/06/Compline.jpg
END:VEVENT
END:VCALENDAR