BEGIN:VCALENDAR
VERSION:2.0
PRODID:-//The Redeemer - ECPv6.15.17.1//NONSGML v1.0//EN
CALSCALE:GREGORIAN
METHOD:PUBLISH
X-WR-CALNAME:The Redeemer
X-ORIGINAL-URL:https://theredeemer.ca
X-WR-CALDESC:Events for The Redeemer
REFRESH-INTERVAL;VALUE=DURATION:PT1H
X-Robots-Tag:noindex
X-PUBLISHED-TTL:PT1H
BEGIN:VTIMEZONE
TZID:America/Toronto
BEGIN:DAYLIGHT
TZOFFSETFROM:-0500
TZOFFSETTO:-0400
TZNAME:EDT
DTSTART:20240310T070000
END:DAYLIGHT
BEGIN:STANDARD
TZOFFSETFROM:-0400
TZOFFSETTO:-0500
TZNAME:EST
DTSTART:20241103T060000
END:STANDARD
BEGIN:DAYLIGHT
TZOFFSETFROM:-0500
TZOFFSETTO:-0400
TZNAME:EDT
DTSTART:20250309T070000
END:DAYLIGHT
BEGIN:STANDARD
TZOFFSETFROM:-0400
TZOFFSETTO:-0500
TZNAME:EST
DTSTART:20251102T060000
END:STANDARD
BEGIN:DAYLIGHT
TZOFFSETFROM:-0500
TZOFFSETTO:-0400
TZNAME:EDT
DTSTART:20260308T070000
END:DAYLIGHT
BEGIN:STANDARD
TZOFFSETFROM:-0400
TZOFFSETTO:-0500
TZNAME:EST
DTSTART:20261101T060000
END:STANDARD
END:VTIMEZONE
BEGIN:VEVENT
DTSTART;TZID=America/Toronto:20250706T190000
DTEND;TZID=America/Toronto:20250706T200000
DTSTAMP:20260425T075603
CREATED:20250515T151017Z
LAST-MODIFIED:20250515T151017Z
UID:10007979-1751828400-1751832000@theredeemer.ca
SUMMARY:Be Still
DESCRIPTION:The church’s doors are open. The candles lit. The busy-ness of the city left behind as you enter the worship space. Taizé chant at 7PM. More candles to light. Prayer. Stillness. In times such as this\, there is space for you to…Be Still. \nJoin us for a new expression of Taizé. \nCome to me\, all you that are weary and are carrying heavy burdens\, and I will give you rest. \n  \n  \n  \n 
URL:https://theredeemer.ca/event/be-still-11/
LOCATION:The Redeemer (main level)\, 162 Bloor Street West\, Toronto\, ON\, Ontario\, M5S 1M4\, Canada
CATEGORIES:Evening Services,Featured,Music,Services,Taizé
ATTACH;FMTTYPE=image/jpeg:https://theredeemer.ca/wp-content/uploads/2025/05/Be-Still_Website_Summer_.jpg
GEO:43.6691377;-79.3940147
X-APPLE-STRUCTURED-LOCATION;VALUE=URI;X-ADDRESS=The Redeemer (main level) 162 Bloor Street West Toronto ON Ontario M5S 1M4 Canada;X-APPLE-RADIUS=500;X-TITLE=162 Bloor Street West:geo:-79.3940147,43.6691377
END:VEVENT
BEGIN:VEVENT
DTSTART;TZID=America/Toronto:20250706T200000
DTEND;TZID=America/Toronto:20250706T201500
DTSTAMP:20260425T075603
CREATED:20250515T151504Z
LAST-MODIFIED:20250515T151504Z
UID:10007988-1751832000-1751832900@theredeemer.ca
SUMMARY:Compline - Online
DESCRIPTION:The community gathers for a short service of Compline – the church’s tradition of bedtime prayer – through Zoom on Sunday nights at 8 PM and send each other off about 10 minutes later. Please join in as often as you are able. \nThe Zoom link for the service will be sent out in eNews on Friday. \nOur ability to gather for worship\, fellowship and formation and to support the many outreach ministries that are integral to our call to be the hands and feet of Christ in the world is possible thanks to the generous donations of parishioners and friends of the community. If you would like to share in this on-going work\, your gifts are gratefully received. Thank you for your generosity. \n 
URL:https://theredeemer.ca/event/compline-online-26/
LOCATION:Online
CATEGORIES:Evening Services,Featured,Online,Services
ATTACH;FMTTYPE=image/jpeg:https://theredeemer.ca/wp-content/uploads/2020/06/Compline.jpg
END:VEVENT
BEGIN:VEVENT
DTSTART;TZID=America/Toronto:20250713T190000
DTEND;TZID=America/Toronto:20250713T200000
DTSTAMP:20260425T075603
CREATED:20250515T151038Z
LAST-MODIFIED:20250711T175225Z
UID:10007980-1752433200-1752436800@theredeemer.ca
SUMMARY:Be Still
DESCRIPTION:The church’s doors are open. The candles lit. The busy-ness of the city left behind as you enter the worship space. Taizé chant at 7PM. More candles to light. Prayer. Stillness. In times such as this\, there is space for you to…Be Still. \nJoin us for a new expression of Taizé. \nCome to me\, all you that are weary and are carrying heavy burdens\, and I will give you rest. \n \n  \n  \n 
URL:https://theredeemer.ca/event/be-still-12/
LOCATION:The Redeemer (main level)\, 162 Bloor Street West\, Toronto\, ON\, Ontario\, M5S 1M4\, Canada
CATEGORIES:Evening Services,Featured,Music,Services,Taizé
ATTACH;FMTTYPE=image/jpeg:https://theredeemer.ca/wp-content/uploads/2025/05/Be-Still_Website_Summer_.jpg
GEO:43.6691377;-79.3940147
X-APPLE-STRUCTURED-LOCATION;VALUE=URI;X-ADDRESS=The Redeemer (main level) 162 Bloor Street West Toronto ON Ontario M5S 1M4 Canada;X-APPLE-RADIUS=500;X-TITLE=162 Bloor Street West:geo:-79.3940147,43.6691377
END:VEVENT
BEGIN:VEVENT
DTSTART;TZID=America/Toronto:20250713T200000
DTEND;TZID=America/Toronto:20250713T201500
DTSTAMP:20260425T075603
CREATED:20250515T151525Z
LAST-MODIFIED:20250515T151525Z
UID:10007989-1752436800-1752437700@theredeemer.ca
SUMMARY:Compline - Online
DESCRIPTION:The community gathers for a short service of Compline – the church’s tradition of bedtime prayer – through Zoom on Sunday nights at 8 PM and send each other off about 10 minutes later. Please join in as often as you are able. \nThe Zoom link for the service will be sent out in eNews on Friday. \nOur ability to gather for worship\, fellowship and formation and to support the many outreach ministries that are integral to our call to be the hands and feet of Christ in the world is possible thanks to the generous donations of parishioners and friends of the community. If you would like to share in this on-going work\, your gifts are gratefully received. Thank you for your generosity. \n 
URL:https://theredeemer.ca/event/compline-online-27/
LOCATION:Online
CATEGORIES:Evening Services,Featured,Online,Services
ATTACH;FMTTYPE=image/jpeg:https://theredeemer.ca/wp-content/uploads/2020/06/Compline.jpg
END:VEVENT
BEGIN:VEVENT
DTSTART;TZID=America/Toronto:20250720T190000
DTEND;TZID=America/Toronto:20250720T200000
DTSTAMP:20260425T075603
CREATED:20250616T145823Z
LAST-MODIFIED:20250616T145823Z
UID:10008025-1753038000-1753041600@theredeemer.ca
SUMMARY:No 7 PM service this week
DESCRIPTION:There won’t be a 7 PM service this week. We return on Sunday\, August 3 with Be Still \n  \n  \n  \n 
URL:https://theredeemer.ca/event/no-7-pm-service-this-week-14/
LOCATION:The Redeemer (main level)\, 162 Bloor Street West\, Toronto\, ON\, Ontario\, M5S 1M4\, Canada
CATEGORIES:Evening Services,Featured,Music,Online,Services
ATTACH;FMTTYPE=image/jpeg:https://theredeemer.ca/wp-content/uploads/2022/05/No-7PM-Service.jpg
GEO:43.6691377;-79.3940147
X-APPLE-STRUCTURED-LOCATION;VALUE=URI;X-ADDRESS=The Redeemer (main level) 162 Bloor Street West Toronto ON Ontario M5S 1M4 Canada;X-APPLE-RADIUS=500;X-TITLE=162 Bloor Street West:geo:-79.3940147,43.6691377
END:VEVENT
BEGIN:VEVENT
DTSTART;TZID=America/Toronto:20250720T200000
DTEND;TZID=America/Toronto:20250720T201500
DTSTAMP:20260425T075603
CREATED:20250515T151547Z
LAST-MODIFIED:20250515T151547Z
UID:10007990-1753041600-1753042500@theredeemer.ca
SUMMARY:Compline - Online
DESCRIPTION:The community gathers for a short service of Compline – the church’s tradition of bedtime prayer – through Zoom on Sunday nights at 8 PM and send each other off about 10 minutes later. Please join in as often as you are able. \nThe Zoom link for the service will be sent out in eNews on Friday. \nOur ability to gather for worship\, fellowship and formation and to support the many outreach ministries that are integral to our call to be the hands and feet of Christ in the world is possible thanks to the generous donations of parishioners and friends of the community. If you would like to share in this on-going work\, your gifts are gratefully received. Thank you for your generosity. \n 
URL:https://theredeemer.ca/event/compline-online-28/
LOCATION:Online
CATEGORIES:Evening Services,Featured,Online,Services
ATTACH;FMTTYPE=image/jpeg:https://theredeemer.ca/wp-content/uploads/2020/06/Compline.jpg
END:VEVENT
BEGIN:VEVENT
DTSTART;TZID=America/Toronto:20250727T190000
DTEND;TZID=America/Toronto:20250727T200000
DTSTAMP:20260425T075603
CREATED:20250616T145917Z
LAST-MODIFIED:20250616T145917Z
UID:10008026-1753642800-1753646400@theredeemer.ca
SUMMARY:No 7 PM service this week
DESCRIPTION:There won’t be a 7 PM service this week. We return on Sunday\, August 3 with Be Still \n  \n  \n  \n 
URL:https://theredeemer.ca/event/no-7-pm-service-this-week-15/
LOCATION:The Redeemer (main level)\, 162 Bloor Street West\, Toronto\, ON\, Ontario\, M5S 1M4\, Canada
CATEGORIES:Evening Services,Featured,Music,Online,Services
ATTACH;FMTTYPE=image/jpeg:https://theredeemer.ca/wp-content/uploads/2022/05/No-7PM-Service.jpg
GEO:43.6691377;-79.3940147
X-APPLE-STRUCTURED-LOCATION;VALUE=URI;X-ADDRESS=The Redeemer (main level) 162 Bloor Street West Toronto ON Ontario M5S 1M4 Canada;X-APPLE-RADIUS=500;X-TITLE=162 Bloor Street West:geo:-79.3940147,43.6691377
END:VEVENT
BEGIN:VEVENT
DTSTART;TZID=America/Toronto:20250727T200000
DTEND;TZID=America/Toronto:20250727T201500
DTSTAMP:20260425T075603
CREATED:20250515T151613Z
LAST-MODIFIED:20250515T151613Z
UID:10007991-1753646400-1753647300@theredeemer.ca
SUMMARY:Compline - Online
DESCRIPTION:The community gathers for a short service of Compline – the church’s tradition of bedtime prayer – through Zoom on Sunday nights at 8 PM and send each other off about 10 minutes later. Please join in as often as you are able. \nThe Zoom link for the service will be sent out in eNews on Friday. \nOur ability to gather for worship\, fellowship and formation and to support the many outreach ministries that are integral to our call to be the hands and feet of Christ in the world is possible thanks to the generous donations of parishioners and friends of the community. If you would like to share in this on-going work\, your gifts are gratefully received. Thank you for your generosity. \n 
URL:https://theredeemer.ca/event/compline-online-29/
LOCATION:Online
CATEGORIES:Evening Services,Featured,Online,Services
ATTACH;FMTTYPE=image/jpeg:https://theredeemer.ca/wp-content/uploads/2020/06/Compline.jpg
END:VEVENT
END:VCALENDAR