BEGIN:VCALENDAR
VERSION:2.0
PRODID:-//The Redeemer - ECPv6.15.17.1//NONSGML v1.0//EN
CALSCALE:GREGORIAN
METHOD:PUBLISH
X-ORIGINAL-URL:https://theredeemer.ca
X-WR-CALDESC:Events for The Redeemer
REFRESH-INTERVAL;VALUE=DURATION:PT1H
X-Robots-Tag:noindex
X-PUBLISHED-TTL:PT1H
BEGIN:VTIMEZONE
TZID:America/Toronto
BEGIN:DAYLIGHT
TZOFFSETFROM:-0500
TZOFFSETTO:-0400
TZNAME:EDT
DTSTART:20240310T070000
END:DAYLIGHT
BEGIN:STANDARD
TZOFFSETFROM:-0400
TZOFFSETTO:-0500
TZNAME:EST
DTSTART:20241103T060000
END:STANDARD
BEGIN:DAYLIGHT
TZOFFSETFROM:-0500
TZOFFSETTO:-0400
TZNAME:EDT
DTSTART:20250309T070000
END:DAYLIGHT
BEGIN:STANDARD
TZOFFSETFROM:-0400
TZOFFSETTO:-0500
TZNAME:EST
DTSTART:20251102T060000
END:STANDARD
BEGIN:DAYLIGHT
TZOFFSETFROM:-0500
TZOFFSETTO:-0400
TZNAME:EDT
DTSTART:20260308T070000
END:DAYLIGHT
BEGIN:STANDARD
TZOFFSETFROM:-0400
TZOFFSETTO:-0500
TZNAME:EST
DTSTART:20261101T060000
END:STANDARD
END:VTIMEZONE
BEGIN:VEVENT
DTSTART;TZID=America/Toronto:20251029T170000
DTEND;TZID=America/Toronto:20251029T183000
DTSTAMP:20260425T234505
CREATED:20251009T181454Z
LAST-MODIFIED:20251029T185933Z
UID:10008089-1761757200-1761762600@theredeemer.ca
SUMMARY:Wine\, Wisdom and Generosity
DESCRIPTION:The stewardship committee is pleased to welcome the Anglican Diocese of Toronto Foundation for Wine\, Wisdom & Generosity on Wednesday\, October 29 at 5 PM. Over light refreshments\, we are invited to explore how our generosity can make a lasting impact through planned giving. \nPractical advice on planning your legacy for the parish is part of the time together\, as is an opportunity to learn about the Foundation’s free online will-writing program\, and having the chance to connect with Bishop Kevin Robertson and fellow Anglicans in meaningful conversation. \nWhether you’re just starting to think about a legacy gift or looking to deepen your commitment\, these free events are open to all. \nRegistration is now closed. \n 
URL:https://theredeemer.ca/event/wine-wisdom-and-generosity/
LOCATION:The Redeemer (main level)\, 162 Bloor Street West\, Toronto\, ON\, Ontario\, M5S 1M4\, Canada
CATEGORIES:Featured,Stewardship
ATTACH;FMTTYPE=image/jpeg:https://theredeemer.ca/wp-content/uploads/2025/10/Wine-Wisdom-Generosity-940-x-788-px.jpg
GEO:43.6691377;-79.3940147
X-APPLE-STRUCTURED-LOCATION;VALUE=URI;X-ADDRESS=The Redeemer (main level) 162 Bloor Street West Toronto ON Ontario M5S 1M4 Canada;X-APPLE-RADIUS=500;X-TITLE=162 Bloor Street West:geo:-79.3940147,43.6691377
END:VEVENT
END:VCALENDAR